BEGIN:VCALENDAR
PRODID:NingEventWidget-v1
VERSION:2.0
METHOD:PUBLISH
BEGIN:VTIMEZONE
TZID:Europe/Paris
X-LIC-LOCATION:Europe/Paris
BEGIN:DAYLIGHT
TZOFFSETFROM:+0100
TZOFFSETTO:+0200
TZNAME:CEST
DTSTART:19700329T020000
RRULE:FREQ=YEARLY;BYMONTH=3;BYDAY=-1SU
END:DAYLIGHT
BEGIN:STANDARD
TZOFFSETFROM:+0200
TZOFFSETTO:+0100
TZNAME:CET
DTSTART:19701025T030000
RRULE:FREQ=YEARLY;BYMONTH=10;BYDAY=-1SU
END:STANDARD
END:VTIMEZONE
BEGIN:VEVENT
UID:2485226:Event:1219939
DTSTAMP:20260423T130221Z
SUMMARY:Célébrer nos lunes bleues:La ménopause
DESCRIPTION:Célébrer nos lunes bleues:La ménaupose  Marion et Yael 
 vous proposent de célébrer nos Lunes bleues La ménopause : 3ème é
 tape du cycle de vie de la femme. Elle entame un âge de sagesse où e
 lle va pouvoir consacrer ses capacités de création à d'autres activ
 ités que l'enfantement... Ateliers de 2h30, en soirée.  Ces partages
  se font entre femmes, dans la nature en partageant un repas ou des do
 uceurs bleues...  Participation 10 euros. rdv le 14 avril à 18h selon
  le temps en extérieur ou intérieur lesenchanteresses.over-blog.com 
 Inscription et réservation demandé au  06 20 34 54 99    www.mamayay
 a.org  http://lechantdesarbres.over-blog.com/\n\nPour plus d'informati
 on, aller sur https://epanews.fr/events/c-l-brer-nos-lunes-bleues-la-m
 -naupose
DTSTART;TZID=Europe/Paris:20130308T180000
DTEND;TZID=Europe/Paris:20130414T230000
CATEGORIES:30
LOCATION:Nimes
WEBSITE:http://lechantdesarbres.over-blog.com/
URL:http://lechantdesarbres.over-blog.com/
CONTACT:0320345499
ORGANIZER;CN=Yaël:https://epanews.fr/profile/yael
ATTACH;FMTTYPE="image/jpeg":http://storage.ning.com/topology/rest/1.0/
 file/get/1662771478?profile=original
ATTENDEE;ROLE=REQ-PARTICIPANT;PARTSTAT=ACCEPTED;RSVP=TRUE;CN=Yaël:htt
 ps://epanews.fr/profile/yael
END:VEVENT
END:VCALENDAR
