BEGIN:VCALENDAR
PRODID:NingEventWidget-v1
VERSION:2.0
METHOD:PUBLISH
BEGIN:VTIMEZONE
TZID:Europe/Paris
X-LIC-LOCATION:Europe/Paris
BEGIN:DAYLIGHT
TZOFFSETFROM:+0100
TZOFFSETTO:+0200
TZNAME:CEST
DTSTART:19700329T020000
RRULE:FREQ=YEARLY;BYMONTH=3;BYDAY=-1SU
END:DAYLIGHT
BEGIN:STANDARD
TZOFFSETFROM:+0200
TZOFFSETTO:+0100
TZNAME:CET
DTSTART:19701025T030000
RRULE:FREQ=YEARLY;BYMONTH=10;BYDAY=-1SU
END:STANDARD
END:VTIMEZONE
BEGIN:VEVENT
UID:2485226:Event:2984052
DTSTAMP:20260423T061242Z
SUMMARY:célébration du vivant
DESCRIPTION:Chamanessence organise un séminaire chamanique du 1er au 
 4 novembre 2018Au programme : Despacho, chants intuitifs, atelier parf
 ums, transe danse, voyage au tambour, cérémonies chamaniques de nuit
 , céremonie de l eau...www.chamanesssence.com06 65 21 56 3806 19 23 6
 1 02\n\nPour plus d'information, aller sur https://epanews.fr/events/c
 -l-bration-du-vivant
DTSTART;TZID=Europe/Paris:20181101T100000
DTEND;TZID=Europe/Paris:20181104T000000
CATEGORIES:66, 34, 11
LOCATION:amélie les bains
WEBSITE:
URL:
CONTACT:
ORGANIZER;CN=cristiana:https://epanews.fr/profile/cristiana
ATTACH;FMTTYPE="image/jpeg":http://storage.ning.com/topology/rest/1.0/
 file/get/1663758047?profile=original
ATTENDEE;ROLE=REQ-PARTICIPANT;PARTSTAT=ACCEPTED;RSVP=TRUE;CN=cristiana
 :https://epanews.fr/profile/cristiana
END:VEVENT
END:VCALENDAR
