BEGIN:VCALENDAR
PRODID:NingEventWidget-v1
VERSION:2.0
METHOD:PUBLISH
BEGIN:VTIMEZONE
TZID:Europe/Paris
X-LIC-LOCATION:Europe/Paris
BEGIN:DAYLIGHT
TZOFFSETFROM:+0100
TZOFFSETTO:+0200
TZNAME:CEST
DTSTART:19700329T020000
RRULE:FREQ=YEARLY;BYMONTH=3;BYDAY=-1SU
END:DAYLIGHT
BEGIN:STANDARD
TZOFFSETFROM:+0200
TZOFFSETTO:+0100
TZNAME:CET
DTSTART:19701025T030000
RRULE:FREQ=YEARLY;BYMONTH=10;BYDAY=-1SU
END:STANDARD
END:VTIMEZONE
BEGIN:VEVENT
UID:2485226:Event:2749687
DTSTAMP:20260421T215118Z
SUMMARY:Célébration du Pas Sage 2017
DESCRIPTION:\n\nPour plus d'information, aller sur https://epanews.fr/
 events/c-l-bration-du-pas-sage-2017
DTSTART;TZID=Europe/Paris:20161231T140000
DTEND;TZID=Europe/Paris:20170102T170000
CATEGORIES:11
LOCATION:Rennes-le-Chateau
WEBSITE:
URL:
CONTACT:
ORGANIZER;CN=Sally:https://epanews.fr/profile/Sally228
ATTACH;FMTTYPE="image/jpeg":
ATTENDEE;ROLE=REQ-PARTICIPANT;PARTSTAT=ACCEPTED;RSVP=TRUE;CN=Sally:htt
 ps://epanews.fr/profile/Sally228
END:VEVENT
END:VCALENDAR
