BEGIN:VCALENDAR
PRODID:NingEventWidget-v1
VERSION:2.0
METHOD:PUBLISH
BEGIN:VTIMEZONE
TZID:Europe/Paris
X-LIC-LOCATION:Europe/Paris
BEGIN:DAYLIGHT
TZOFFSETFROM:+0100
TZOFFSETTO:+0200
TZNAME:CEST
DTSTART:19700329T020000
RRULE:FREQ=YEARLY;BYMONTH=3;BYDAY=-1SU
END:DAYLIGHT
BEGIN:STANDARD
TZOFFSETFROM:+0200
TZOFFSETTO:+0100
TZNAME:CET
DTSTART:19701025T030000
RRULE:FREQ=YEARLY;BYMONTH=10;BYDAY=-1SU
END:STANDARD
END:VTIMEZONE
BEGIN:VEVENT
UID:2485226:Event:2824366
DTSTAMP:20260420T095146Z
SUMMARY:Célébration de l'été dans la tradition Essénienne
DESCRIPTION:Célébration de l'été avec l'Archange Ouriel dans la tr
 adition Essénienne.\nLa Lumière est un esprit vivant, une intelligen
 ce, une conscience qui s’appelle « Ouriel ». Il y a une lumière e
 xtérieure qui éclaire le monde des apparences et une lumière intér
 ieure qui fait apparaître la présence de Dieu et de Ses Anges. L’
 énergie d’Ouriel te conduit vers la réalisation concrète. Il est 
 la réalisation en actes de la pensée et de la volonté du monde divi
 n.\nCélébration de 4 jours avec des méditations, conférences, chan
 ts, danses, rituels pour fêter la lumière de l'été. Sois ce que tu
  es !\n290€ pour une première participation\n\nPour plus d'informat
 ion, aller sur https://epanews.fr/events/c-l-bration-de-l-t-dans-la-tr
 adition-ess-nienne
DTSTART;TZID=Europe/Paris:20170621T080000
DTEND;TZID=Europe/Paris:20170625T010000
CATEGORIES:espagne
LOCATION:Hôtel Evenia
WEBSITE:http://ronde-des-archanges.esseniens.org/la-prochaine-rencontr
 e/
URL:http://ronde-des-archanges.esseniens.org/la-prochaine-rencontre/
CONTACT:+336 59 77 87 90
ORGANIZER:Ronde des Archanges
ATTACH;FMTTYPE="image/jpeg":http://storage.ning.com/topology/rest/1.0/
 file/get/1663662278?profile=original
ATTENDEE;ROLE=REQ-PARTICIPANT;PARTSTAT=ACCEPTED;RSVP=TRUE;CN=Janouka:h
 ttps://epanews.fr/profile/Janouka
END:VEVENT
END:VCALENDAR
