BEGIN:VCALENDAR
PRODID:NingEventWidget-v1
VERSION:2.0
METHOD:PUBLISH
BEGIN:VTIMEZONE
TZID:Europe/Paris
X-LIC-LOCATION:Europe/Paris
BEGIN:DAYLIGHT
TZOFFSETFROM:+0100
TZOFFSETTO:+0200
TZNAME:CEST
DTSTART:19700329T020000
RRULE:FREQ=YEARLY;BYMONTH=3;BYDAY=-1SU
END:DAYLIGHT
BEGIN:STANDARD
TZOFFSETFROM:+0200
TZOFFSETTO:+0100
TZNAME:CET
DTSTART:19701025T030000
RRULE:FREQ=YEARLY;BYMONTH=10;BYDAY=-1SU
END:STANDARD
END:VTIMEZONE
BEGIN:VEVENT
UID:2485226:Event:2745013
DTSTAMP:20260422T205018Z
SUMMARY:Bulle de bien-être
DESCRIPTION:Aller bien, prendre soin de son capital santé, c'est une 
 routine à adopter en prévention!\nPour cela, la prochaine édition d
 e BULLE DE SOINS aura lieu à LATTES (34) le SAMEDI 3 DECEMBRE à 14h3
 0!\nAu programme: - Une question précise ou générale en astrologie 
 avec Véronique Wagner - Des soins énergétiques pour libérer blocag
 es et croyances limitantes par Sandrine Testa et Nathalie Perraud - Un
  massage du dos ou une prestation de chromathérapie (couleurs) avec V
 anessa Baudin\n70 € pour 4 entretiens individuels de 30mn chacun, un
 e belle opportunité à saisir pour terminer l'année en beauté\nMe c
 ontacter : contact@nathalieperraud.fr\n\n\nPour plus d'information, al
 ler sur https://epanews.fr/events/bulle-de-bien-tre
DTSTART;TZID=Europe/Paris:20161203T143000
DTEND;TZID=Europe/Paris:20161203T180000
CATEGORIES:34
LOCATION:Lattes
WEBSITE:
URL:
CONTACT:
ORGANIZER;CN=Nathy:https://epanews.fr/profile/Nathy662
ATTACH;FMTTYPE="image/jpeg":http://storage.ning.com/topology/rest/1.0/
 file/get/1663621882?profile=original
ATTENDEE;ROLE=REQ-PARTICIPANT;PARTSTAT=ACCEPTED;RSVP=TRUE;CN=Nathy:htt
 ps://epanews.fr/profile/Nathy662
END:VEVENT
END:VCALENDAR
