BEGIN:VCALENDAR
PRODID:NingEventWidget-v1
VERSION:2.0
METHOD:PUBLISH
BEGIN:VTIMEZONE
TZID:Europe/Paris
X-LIC-LOCATION:Europe/Paris
BEGIN:DAYLIGHT
TZOFFSETFROM:+0100
TZOFFSETTO:+0200
TZNAME:CEST
DTSTART:19700329T020000
RRULE:FREQ=YEARLY;BYMONTH=3;BYDAY=-1SU
END:DAYLIGHT
BEGIN:STANDARD
TZOFFSETFROM:+0200
TZOFFSETTO:+0100
TZNAME:CET
DTSTART:19701025T030000
RRULE:FREQ=YEARLY;BYMONTH=10;BYDAY=-1SU
END:STANDARD
END:VTIMEZONE
BEGIN:VEVENT
UID:2485226:Event:399302
DTSTAMP:20260425T195236Z
SUMMARY:Bugarach,La Montagne SacrÃ©e du 21 au 24/07/11
DESCRIPTION:Le Puech du Bugarach, est devenu au fil des diffÃ©rentes c
 ivilisations qui sâ€™y sont succÃ©dÃ©es, un site mystÃ©rieux et lÃ©gen
 daire .\nSituÃ© en plein milieu des CorbiÃ¨res, câ€™estÂ  un haut lieu
  Ã©nergÃ©tique et vibratoire du pays cathare propice tant au ressource
 ment quâ€™Ã  la rencontre avec soi.\nNous cheminerons Ã©galement vers 
 d'autres sitesÂ alentour logÃ©s dans des forÃªts de hÃªtres et avoisin
 ant des sources d'eau chaude pour rÃ©activer notre lien Ã  la Terre MÃ
 ¨re.\nEt, câ€™est avec la complicitÃ© de ce mont et sites sacrÃ©s ancr
 Ã©s dans une nature gÃ©nÃ©reuse que pourra s'accomplir la magie du cha
 ngement.\nCette annÃ©e,nous participerons avec de nombreux autres inte
 rvenants au festival Marie Madeleine proposÃ© par Debowska Productions
 .\nÂ \nTarif: 250â‚¬ la participation au stage.\nHÃ©bergement pension 
 complÃ¨te de 114 Ã  145â‚¬/pers.\nProgramme dÃ©taillÃ© sur: http://www
 .nadinepenna.com\n\nPour plus d'information, aller sur https://epanews
 .fr/events/bugarachla-montagne-sacree-du
DTSTART;TZID=Europe/Paris:20110721T130000
DTEND;TZID=Europe/Paris:20110724T170000
CATEGORIES:11
LOCATION:Rennes le ChÃ¢teau 
WEBSITE:
URL:
CONTACT:0674834251
ORGANIZER;CN="Penna Nadine-Sarah":https://epanews.fr/profile/PennaNadi
 ne
ATTACH;FMTTYPE="image/jpeg":http://storage.ning.com/topology/rest/1.0/
 file/get/1662433566?profile=original
ATTENDEE;ROLE=REQ-PARTICIPANT;PARTSTAT=ACCEPTED;RSVP=TRUE;CN="Penna Na
 dine-Sarah":https://epanews.fr/profile/PennaNadine
END:VEVENT
END:VCALENDAR
