BEGIN:VCALENDAR
PRODID:NingEventWidget-v1
VERSION:2.0
METHOD:PUBLISH
BEGIN:VTIMEZONE
TZID:Europe/Paris
X-LIC-LOCATION:Europe/Paris
BEGIN:DAYLIGHT
TZOFFSETFROM:+0100
TZOFFSETTO:+0200
TZNAME:CEST
DTSTART:19700329T020000
RRULE:FREQ=YEARLY;BYMONTH=3;BYDAY=-1SU
END:DAYLIGHT
BEGIN:STANDARD
TZOFFSETFROM:+0200
TZOFFSETTO:+0100
TZNAME:CET
DTSTART:19701025T030000
RRULE:FREQ=YEARLY;BYMONTH=10;BYDAY=-1SU
END:STANDARD
END:VTIMEZONE
BEGIN:VEVENT
UID:2485226:Event:645100
DTSTAMP:20260423T232042Z
SUMMARY:Modification demandÃ©e
DESCRIPTION:Â Dans le cadre du loisir associÃ© au dÃ©veloppement perso
 nnel et du bien Ãªtre, l'association APERIA propose diffÃ©rentes activ
 itÃ©s et ateliers sur la rÃ©gion toulonnaise, ou dans la rÃ©gion PACA.
  Le but est de faire connaÃ®tre certaines techniques dans des ateliers
  de bien Ãªtre ou par des activitÃ©s de loisirs par la convivialitÃ©Â 
 et le partage des personnes qui composent le groupe.\nNous avons dÃ©jÃ
   sÃ©lectionnÃ© quelques ateliers proposÃ©s par MichÃ¨le ELGARD.\nA to
 utes fins utiles, voici le lien de son site:\nhttp://www.reflexovie.fr
 /\nPrÃ©cisons que les compÃ©tences de MichÃ¨le ELGARD ne se limitent p
 as Ã  la rÃ©flexologie.\nL'atelier de ce samedi 14 janvier a lieu au P
 radet dans la rÃ©gion toulonnaise et concerne le BRAIN GYM, une techni
 que crÃ©Ã©e par Paul Dennyson qui permet de rÃ©soudre les difficultÃ©s
 Â  d'apprentissage, d'Ã©coute, d'expression, de communication, de conf
 iance en soi, d'organisation, d'efficacitÃ©, de blocage, de timing. Le
  Brain Gym apporte Ã  chacun la possibilitÃ© d'optimiser ses potential
 itÃ©s et d'aborder sa vie de maniÃ¨re fluide, dÃ©contractÃ©e, Ã©nergÃ©
 tique et efficace.\nL'atelier est constituÃ© de deux fois 5 personnes 
 (le deuxiÃ¨me mÃªme atelier est programmÃ© Ã  13h30)\nAmener pour l'ap
 rÃ¨s atelier et pour la convivialitÃ© un quelque chose Ã  boire et/ou 
 Ã  grignoter. La participation aux frais de lâ€™atelier est de 20â‚¬, 
 paiement en espÃ¨ces de prÃ©fÃ©rence. Comptez une bonne heure d'atelie
 r. En plus de votre inscription sur le site, tÃ©lÃ©phonez svp pour rÃ©
 server Ã  Daniel Fernandez au 0660463092. Si vous disposez de places d
 ans votre voiture, proposez le en commentaire merci.\n\nPour plus d'in
 formation, aller sur https://epanews.fr/events/brain-gym-toulon-20
DTSTART;TZID=Europe/Paris:20120114T101500
DTEND;TZID=Europe/Paris:20120114T113000
CATEGORIES:0660463092
LOCATION:TOULON
WEBSITE:
URL:
CONTACT:0660463092
ORGANIZER;CN=danielstcyrsurmer:https://epanews.fr/profile/danielstcyrs
 urmer
ATTACH;FMTTYPE="image/jpeg":
ATTENDEE;ROLE=REQ-PARTICIPANT;PARTSTAT=ACCEPTED;RSVP=TRUE;CN=danielstc
 yrsurmer:https://epanews.fr/profile/danielstcyrsurmer
END:VEVENT
END:VCALENDAR
