BEGIN:VCALENDAR
PRODID:NingEventWidget-v1
VERSION:2.0
METHOD:PUBLISH
BEGIN:VTIMEZONE
TZID:Europe/Paris
X-LIC-LOCATION:Europe/Paris
BEGIN:DAYLIGHT
TZOFFSETFROM:+0100
TZOFFSETTO:+0200
TZNAME:CEST
DTSTART:19700329T020000
RRULE:FREQ=YEARLY;BYMONTH=3;BYDAY=-1SU
END:DAYLIGHT
BEGIN:STANDARD
TZOFFSETFROM:+0200
TZOFFSETTO:+0100
TZNAME:CET
DTSTART:19701025T030000
RRULE:FREQ=YEARLY;BYMONTH=10;BYDAY=-1SU
END:STANDARD
END:VTIMEZONE
BEGIN:VEVENT
UID:2485226:Event:1830994
DTSTAMP:20260422T155909Z
SUMMARY:Boire un verre Lyon
DESCRIPTION:Retrouvons-nous pour boire un verre sur les berges du Rhô
 ne.\nProfitons du soleil et de la douceur printanière dans la joie et
  la bonne humeur !\nAmicalement.\n\nPour plus d'information, aller sur
  https://epanews.fr/events/boire-un-verre-lyon
DTSTART;TZID=Europe/Paris:20140402T180000
DTEND;TZID=Europe/Paris:20140402T200000
CATEGORIES:69
LOCATION:Péniche Le Sirius
WEBSITE:
URL:
CONTACT:
ORGANIZER;CN=Irène:https://epanews.fr/profile/LEFAILLER
ATTACH;FMTTYPE="image/jpeg":http://storage.ning.com/topology/rest/1.0/
 file/get/1663092750?profile=original
ATTENDEE;ROLE=REQ-PARTICIPANT;PARTSTAT=ACCEPTED;RSVP=TRUE;CN=Sophie:ht
 tps://epanews.fr/profile/Sophie112
ATTENDEE;ROLE=REQ-PARTICIPANT;PARTSTAT=ACCEPTED;RSVP=TRUE;CN=Max:https
 ://epanews.fr/profile/Max221
ATTENDEE;ROLE=REQ-PARTICIPANT;PARTSTAT=ACCEPTED;RSVP=TRUE;CN=magnetic:
 https://epanews.fr/profile/magnetic
ATTENDEE;ROLE=REQ-PARTICIPANT;PARTSTAT=ACCEPTED;RSVP=TRUE;CN=madmonk:h
 ttps://epanews.fr/profile/madmonk
ATTENDEE;ROLE=REQ-PARTICIPANT;PARTSTAT=ACCEPTED;RSVP=TRUE;CN=Marielynn
 :https://epanews.fr/profile/Marielynn
ATTENDEE;ROLE=REQ-PARTICIPANT;PARTSTAT=ACCEPTED;RSVP=TRUE;CN=nithaura:
 https://epanews.fr/profile/nithaura968
ATTENDEE;ROLE=REQ-PARTICIPANT;PARTSTAT=ACCEPTED;RSVP=TRUE;CN=arbre69:h
 ttps://epanews.fr/profile/arbre69
ATTENDEE;ROLE=REQ-PARTICIPANT;PARTSTAT=ACCEPTED;RSVP=TRUE;CN=ysis:http
 s://epanews.fr/profile/ysis
ATTENDEE;ROLE=REQ-PARTICIPANT;PARTSTAT=ACCEPTED;RSVP=TRUE;CN=Pier:http
 s://epanews.fr/profile/Pier819
ATTENDEE;ROLE=REQ-PARTICIPANT;PARTSTAT=ACCEPTED;RSVP=TRUE;CN=michelees
 poir:https://epanews.fr/profile/micheleespoir
ATTENDEE;ROLE=REQ-PARTICIPANT;PARTSTAT=ACCEPTED;RSVP=TRUE;CN=superdido
 u:https://epanews.fr/profile/superdidou
ATTENDEE;ROLE=REQ-PARTICIPANT;PARTSTAT=ACCEPTED;RSVP=TRUE;CN="Maritzab
 el Claros-Ferrer":https://epanews.fr/profile/MaritzabelClarosJimenez
ATTENDEE;ROLE=REQ-PARTICIPANT;PARTSTAT=ACCEPTED;RSVP=TRUE;CN=Irène:ht
 tps://epanews.fr/profile/LEFAILLER
ATTENDEE;ROLE=REQ-PARTICIPANT;PARTSTAT=TENTATIVE;RSVP=TRUE;CN=isa1962:
 https://epanews.fr/profile/isa1962
ATTENDEE;ROLE=REQ-PARTICIPANT;PARTSTAT=TENTATIVE;RSVP=TRUE;CN="Romain 
 d'Urfé":https://epanews.fr/profile/RomaindUrfe
ATTENDEE;ROLE=REQ-PARTICIPANT;PARTSTAT=TENTATIVE;RSVP=TRUE;CN="MALOSSE
  André":https://epanews.fr/profile/MALOSSE
ATTENDEE;ROLE=REQ-PARTICIPANT;PARTSTAT=TENTATIVE;RSVP=TRUE;CN="Bruno J
 acquet":https://epanews.fr/profile/BrunoJacquet
ATTENDEE;ROLE=REQ-PARTICIPANT;PARTSTAT=TENTATIVE;RSVP=TRUE;CN=revesdet
 oiles:https://epanews.fr/profile/revesdetoiles
ATTENDEE;ROLE=REQ-PARTICIPANT;PARTSTAT=TENTATIVE;RSVP=TRUE;CN=Laulaufo
 litude:https://epanews.fr/profile/Laulaufolitude
ATTENDEE;ROLE=REQ-PARTICIPANT;PARTSTAT=TENTATIVE;RSVP=TRUE;CN="Christi
 an GZ":https://epanews.fr/profile/Pseucg
END:VEVENT
END:VCALENDAR
