BEGIN:VCALENDAR
PRODID:NingEventWidget-v1
VERSION:2.0
METHOD:PUBLISH
BEGIN:VTIMEZONE
TZID:Europe/Paris
X-LIC-LOCATION:Europe/Paris
BEGIN:DAYLIGHT
TZOFFSETFROM:+0100
TZOFFSETTO:+0200
TZNAME:CEST
DTSTART:19700329T020000
RRULE:FREQ=YEARLY;BYMONTH=3;BYDAY=-1SU
END:DAYLIGHT
BEGIN:STANDARD
TZOFFSETFROM:+0200
TZOFFSETTO:+0100
TZNAME:CET
DTSTART:19701025T030000
RRULE:FREQ=YEARLY;BYMONTH=10;BYDAY=-1SU
END:STANDARD
END:VTIMEZONE
BEGIN:VEVENT
UID:2485226:Event:1912708
DTSTAMP:20260421T215241Z
SUMMARY:Boire un verre à Lyon
DESCRIPTION:Retrouvons-nous pour boire un verre sur les berges du Rhô
 ne.Profitons du soleil et de la douceur printanière dans la joie et l
 a bonne humeur !Amicalement.\n\nPour plus d'information, aller sur htt
 ps://epanews.fr/events/boire-un-verre-lyon-1
DTSTART;TZID=Europe/Paris:20140516T180000
DTEND;TZID=Europe/Paris:20140516T200000
CATEGORIES:69
LOCATION:Péniche Le Sirius (berges du Rhône entre le pont Lafayette 
 et le pont Wilson)
WEBSITE:
URL:
CONTACT:
ORGANIZER;CN=Irène:https://epanews.fr/profile/LEFAILLER
ATTACH;FMTTYPE="image/jpeg":http://storage.ning.com/topology/rest/1.0/
 file/get/1663131415?profile=original
ATTENDEE;ROLE=REQ-PARTICIPANT;PARTSTAT=ACCEPTED;RSVP=TRUE;CN=magnetic:
 https://epanews.fr/profile/magnetic
ATTENDEE;ROLE=REQ-PARTICIPANT;PARTSTAT=ACCEPTED;RSVP=TRUE;CN=fleurdevi
 e:https://epanews.fr/profile/fleurdevie477
ATTENDEE;ROLE=REQ-PARTICIPANT;PARTSTAT=ACCEPTED;RSVP=TRUE;CN=ysis:http
 s://epanews.fr/profile/ysis
ATTENDEE;ROLE=REQ-PARTICIPANT;PARTSTAT=ACCEPTED;RSVP=TRUE;CN="Carton E
 lisabeth":https://epanews.fr/profile/CartonElisabeth
ATTENDEE;ROLE=REQ-PARTICIPANT;PARTSTAT=ACCEPTED;RSVP=TRUE;CN=Marielynn
 :https://epanews.fr/profile/Marielynn
ATTENDEE;ROLE=REQ-PARTICIPANT;PARTSTAT=ACCEPTED;RSVP=TRUE;CN=Irène:ht
 tps://epanews.fr/profile/LEFAILLER
ATTENDEE;ROLE=REQ-PARTICIPANT;PARTSTAT=TENTATIVE;RSVP=TRUE;CN="Bruno J
 acquet":https://epanews.fr/profile/BrunoJacquet
END:VEVENT
END:VCALENDAR
