BEGIN:VCALENDAR
PRODID:NingEventWidget-v1
VERSION:2.0
METHOD:PUBLISH
BEGIN:VTIMEZONE
TZID:Europe/Paris
X-LIC-LOCATION:Europe/Paris
BEGIN:DAYLIGHT
TZOFFSETFROM:+0100
TZOFFSETTO:+0200
TZNAME:CEST
DTSTART:19700329T020000
RRULE:FREQ=YEARLY;BYMONTH=3;BYDAY=-1SU
END:DAYLIGHT
BEGIN:STANDARD
TZOFFSETFROM:+0200
TZOFFSETTO:+0100
TZNAME:CET
DTSTART:19701025T030000
RRULE:FREQ=YEARLY;BYMONTH=10;BYDAY=-1SU
END:STANDARD
END:VTIMEZONE
BEGIN:VEVENT
UID:2485226:Event:797730
DTSTAMP:20260421T200929Z
SUMMARY:Biodanza Vivre en Couleur Stage d'été
DESCRIPTION:Stage Biodanza Vivre en couleur\nDans un cadre exceptionne
 l, un stage joyeux et convivial, pour explorer les couleurs de notre v
 ie, par le mouvement, la danse, la peinture, le chant.\nCe stage nous 
 offre la possibilité d'épanouir notre créativité existentielle, et
  de découvrir le message de chaque couleur. Ouvert à tous. Oser déc
 ouvrir le plaisir de danser, peindre et chanter !\nCo-animation Véron
 ique Granier et Eric Chevalier, professeurs diplômés en Biodanza sys
 tème Rolando Toro\nTous renseignement sur notre site : biodanza-art.f
 r\n\nPour plus d'information, aller sur https://epanews.fr/events/biod
 anza-vivre-en-couleur-stage-d-t
DTSTART;TZID=Europe/Paris:20120801T140000
DTEND;TZID=Europe/Paris:20120805T170000
CATEGORIES:33
LOCATION:Juillac - entre libourne et bergerac 33
WEBSITE:http://www.biodanza-art.fr
URL:http://www.biodanza-art.fr
CONTACT:06 87 55 10 13
ORGANIZER;CN=Véro:https://epanews.fr/profile/Vero472
ATTACH;FMTTYPE="image/jpeg":http://storage.ning.com/topology/rest/1.0/
 file/get/1662606350?profile=original
ATTENDEE;ROLE=REQ-PARTICIPANT;PARTSTAT=ACCEPTED;RSVP=TRUE;CN=Véro:htt
 ps://epanews.fr/profile/Vero472
END:VEVENT
END:VCALENDAR
