BEGIN:VCALENDAR
PRODID:NingEventWidget-v1
VERSION:2.0
METHOD:PUBLISH
BEGIN:VTIMEZONE
TZID:Europe/Paris
X-LIC-LOCATION:Europe/Paris
BEGIN:DAYLIGHT
TZOFFSETFROM:+0100
TZOFFSETTO:+0200
TZNAME:CEST
DTSTART:19700329T020000
RRULE:FREQ=YEARLY;BYMONTH=3;BYDAY=-1SU
END:DAYLIGHT
BEGIN:STANDARD
TZOFFSETFROM:+0200
TZOFFSETTO:+0100
TZNAME:CET
DTSTART:19701025T030000
RRULE:FREQ=YEARLY;BYMONTH=10;BYDAY=-1SU
END:STANDARD
END:VTIMEZONE
BEGIN:VEVENT
UID:2485226:Event:2920811
DTSTAMP:20260421T212834Z
SUMMARY:Biodanza stage
DESCRIPTION:\"Libérer le mouvement et construire son espace existenti
 el\".\nLors de ce stage je vous propose d'ouvrir le champ de l'expéri
 ence motrice afin de ranimer le flux vital qui circule dans le corps, 
 de développer la capacité d'adaptation, de se connecter à son propr
 e rythme. Le champ d'action s'élargit et ouvre de nouvelles possibil
 ités d'expression.\n\nPour plus d'information, aller sur https://epan
 ews.fr/events/biodanza-stage
DTSTART;TZID=Europe/Paris:20180114T140000
DTEND;TZID=Europe/Paris:20180114T180000
CATEGORIES:32, 31
LOCATION:Salle du foyer Ségoufielle
WEBSITE:
URL:
CONTACT:06 12 29 00 71
ORGANIZER;CN=croquelavie:https://epanews.fr/profile/croquelavie
ATTACH;FMTTYPE="image/jpeg":
ATTENDEE;ROLE=REQ-PARTICIPANT;PARTSTAT=ACCEPTED;RSVP=TRUE;CN=croquelav
 ie:https://epanews.fr/profile/croquelavie
END:VEVENT
END:VCALENDAR
