BEGIN:VCALENDAR
PRODID:NingEventWidget-v1
VERSION:2.0
METHOD:PUBLISH
BEGIN:VTIMEZONE
TZID:Europe/Paris
X-LIC-LOCATION:Europe/Paris
BEGIN:DAYLIGHT
TZOFFSETFROM:+0100
TZOFFSETTO:+0200
TZNAME:CEST
DTSTART:19700329T020000
RRULE:FREQ=YEARLY;BYMONTH=3;BYDAY=-1SU
END:DAYLIGHT
BEGIN:STANDARD
TZOFFSETFROM:+0200
TZOFFSETTO:+0100
TZNAME:CET
DTSTART:19701025T030000
RRULE:FREQ=YEARLY;BYMONTH=10;BYDAY=-1SU
END:STANDARD
END:VTIMEZONE
BEGIN:VEVENT
UID:2485226:Event:521143
DTSTAMP:20260422T153158Z
SUMMARY:Biodanza Ã  Sophia Antipolis (06)
DESCRIPTION:Le cours de Biodanza vient de reprendre dans un cadre magn
 ifique.\nLes personnes dÃ©butantes accueillies et intÃ©grÃ©es trÃ¨s ra
 pidement dans le groupe.\nAu travers de la danse et la musique venez v
 ous exprimer de maniÃ¨re plus authentique et dialoguer de maniÃ¨re jus
 te avec autrui?\nAucun prÃ©-requis n'est demandÃ© en danse ou en musiq
 ue.\nLe chemin est en pente douce, vers le plaisir.\nChaque mercredi Â
  Ã  18h30\n\nPour plus d'information, aller sur https://epanews.fr/eve
 nts/biodanza-sophia-antipolis-06
DTSTART;TZID=Europe/Paris:20110921T183000
DTEND;TZID=Europe/Paris:20110921T203000
CATEGORIES:06
LOCATION:sophia antipolis antibes
WEBSITE:
URL:
CONTACT:06 98 21 89 09
ORGANIZER;CN="olivier bertrand":https://epanews.fr/profile/olivierbert
 rand
ATTACH;FMTTYPE="image/jpeg":http://storage.ning.com/topology/rest/1.0/
 file/get/1662455781?profile=original
ATTENDEE;ROLE=REQ-PARTICIPANT;PARTSTAT=ACCEPTED;RSVP=TRUE;CN="olivier 
 bertrand":https://epanews.fr/profile/olivierbertrand
END:VEVENT
END:VCALENDAR
