BEGIN:VCALENDAR
PRODID:NingEventWidget-v1
VERSION:2.0
METHOD:PUBLISH
BEGIN:VTIMEZONE
TZID:Europe/Paris
X-LIC-LOCATION:Europe/Paris
BEGIN:DAYLIGHT
TZOFFSETFROM:+0100
TZOFFSETTO:+0200
TZNAME:CEST
DTSTART:19700329T020000
RRULE:FREQ=YEARLY;BYMONTH=3;BYDAY=-1SU
END:DAYLIGHT
BEGIN:STANDARD
TZOFFSETFROM:+0200
TZOFFSETTO:+0100
TZNAME:CET
DTSTART:19701025T030000
RRULE:FREQ=YEARLY;BYMONTH=10;BYDAY=-1SU
END:STANDARD
END:VTIMEZONE
BEGIN:VEVENT
UID:2485226:Event:782405
DTSTAMP:20260422T051403Z
SUMMARY:Biodanza, sÃ©ance de dÃ©couverte
DESCRIPTION:bonjour, je propose une sÃ©ance dÃ©couverte enco animation
  avec Danielle GOTLIB.\nLa BiodanzaÂ® est une proposition visant Ã  dÃ
 ©velopper nos potentiels, Ã  vivre la rencontreÂ avec nous-mÃªmes et a
 vec les autres.\nA travers la danse, Â la BiodanzaÂ® nous reconnecte Ã
   la joie de vivre, sur des rythmes variÃ©sÂ : latino, jazz, musique c
 lassique, rythmes africains, popâ€¦\nLa BiodanzaÂ® s'adresse Ã  tous, 
 sans aptitude physique particuliÃ¨re. Laissez la vie danser en vousÂ !
  LibÃ©rez votre vitalitÃ©, votre crÃ©ativitÃ©, votre spontanÃ©itÃ©Â ! 
 Pour mettre plus de vie dans votre vie et pour vous faire plaisir par 
 le mouvement, le rythme et la danse.\nVenez dÃ©couvrir la BiodanzaÂ® !
 \nÂ Rendez-vous auÂ Loft Tango 6, rue Lechapelais\nParis 17, MÂ° Place
  de ClichyÂ Â Â Â Â  Â 15h Ã  17h\n\nPour plus d'information, aller su
 r https://epanews.fr/events/biodanza-s-ance-de-d-couverte
DTSTART;TZID=Europe/Paris:20120520T150000
DTEND;TZID=Europe/Paris:20120520T170000
CATEGORIES:75
LOCATION:PARIS 17
WEBSITE:
URL:
CONTACT:06 20 62 46 02
ORGANIZER;CN="Yves DANIEL":https://epanews.fr/profile/YvesDANIEL
ATTACH;FMTTYPE="image/jpeg":http://storage.ning.com/topology/rest/1.0/
 file/get/1662596103?profile=original
ATTENDEE;ROLE=REQ-PARTICIPANT;PARTSTAT=ACCEPTED;RSVP=TRUE;CN="Yves DAN
 IEL":https://epanews.fr/profile/YvesDANIEL
END:VEVENT
END:VCALENDAR
