BEGIN:VCALENDAR
PRODID:NingEventWidget-v1
VERSION:2.0
METHOD:PUBLISH
BEGIN:VTIMEZONE
TZID:Europe/Paris
X-LIC-LOCATION:Europe/Paris
BEGIN:DAYLIGHT
TZOFFSETFROM:+0100
TZOFFSETTO:+0200
TZNAME:CEST
DTSTART:19700329T020000
RRULE:FREQ=YEARLY;BYMONTH=3;BYDAY=-1SU
END:DAYLIGHT
BEGIN:STANDARD
TZOFFSETFROM:+0200
TZOFFSETTO:+0100
TZNAME:CET
DTSTART:19701025T030000
RRULE:FREQ=YEARLY;BYMONTH=10;BYDAY=-1SU
END:STANDARD
END:VTIMEZONE
BEGIN:VEVENT
UID:2485226:Event:2867207
DTSTAMP:20260422T040937Z
SUMMARY:Biodanza séance découverte
DESCRIPTION:         \n           Soirée découverte ouver
 te à tous le 25 septembre\n\nSi le cœur vous en dit, REJOIGNEZ-NOU
 S\nToute expérience nouvelle est une source d’enrichissement sur no
 tre chemin d’évolution.\n\nPour plus d'information, aller sur https
 ://epanews.fr/events/biodanza-s-ance-d-couverte
DTSTART;TZID=Europe/Paris:20170924T200000
DTEND;TZID=Europe/Paris:20170924T220000
CATEGORIES:83
LOCATION:la chysalide
WEBSITE:
URL:
CONTACT:0610027613
ORGANIZER:claudine laugier
ATTACH;FMTTYPE="image/jpeg":
ATTENDEE;ROLE=REQ-PARTICIPANT;PARTSTAT=ACCEPTED;RSVP=TRUE;CN=florence:
 https://epanews.fr/profile/DUBROCHE
END:VEVENT
END:VCALENDAR
