BEGIN:VCALENDAR
PRODID:NingEventWidget-v1
VERSION:2.0
METHOD:PUBLISH
BEGIN:VTIMEZONE
TZID:Europe/Paris
X-LIC-LOCATION:Europe/Paris
BEGIN:DAYLIGHT
TZOFFSETFROM:+0100
TZOFFSETTO:+0200
TZNAME:CEST
DTSTART:19700329T020000
RRULE:FREQ=YEARLY;BYMONTH=3;BYDAY=-1SU
END:DAYLIGHT
BEGIN:STANDARD
TZOFFSETFROM:+0200
TZOFFSETTO:+0100
TZNAME:CET
DTSTART:19701025T030000
RRULE:FREQ=YEARLY;BYMONTH=10;BYDAY=-1SU
END:STANDARD
END:VTIMEZONE
BEGIN:VEVENT
UID:2485226:Event:1597766
DTSTAMP:20260423T100204Z
SUMMARY:Biodanza le dimanche 17 Novembre Ã  Marseille
DESCRIPTION:Entrer dans la dynamique du lien pour vivre pleinement.\nN
 otre qualitÃ© de vie et notre santÃ©, dÃ©pendent de notre capacitÃ© Ã 
  nous mettre en lien avec notre nature profonde, avec les autres, et n
 otre environnement.\nï‚· La relation Ã  soi : prendre soin de soi, de 
 son processus dâ€™Ã©volution, avec dÃ©licatesse, mettre en lien : sa v
 italitÃ© (corps) son affectif (coeur) et sa pensÃ©e (esprit)ï‚· La rel
 ation Ã  lâ€™autre : avec bienveillance et progressivitÃ©, lâ€™opportu
 nitÃ© de se mettre en lien en dÃ©veloppant nos capacitÃ©s de spontanÃ©
 itÃ©, de joie, dâ€™authenticitÃ©, de respect.ï‚· La relation Ã  notre 
 environnement : dÃ©velopper notre capacitÃ© Ã  nous relier Ã  la natur
 e, au sacrÃ© de la Vie.\nDeux sÃ©ances de Biodanza, avec une pause goÃ
 »ter, oÃ¹ chacun pourra partager ce quâ€™il a apportÃ©\nAnimÃ© parLou 
 Le Morvan - VÃ©ronique Granier - Eric Chevalier\nLa Biodanza propose u
 n chemin de dÃ©veloppement de nos potentiels en s'appuyant sur ce qui 
 est sain, positif et Ã©volutif en chacun d'entre nous : une possibilit
 Ã© de rÃ©-enchantement au moyen de la danse, de l'expression, de l'aff
 ectivitÃ©, du partage. Pouvoir se sentir plus intensÃ©ment vivant perm
 et alors d'illuminer notre quotidien et celui des autres.\nTarif, rens
 eignements sur www.biodanza-art.fr\nInscription au 06 87 55 10 13\n\nP
 our plus d'information, aller sur https://epanews.fr/events/biodanza-l
 e-dimanche-17-novembre-marseille
DTSTART;TZID=Europe/Paris:20131117T130000
DTEND;TZID=Europe/Paris:20131117T180000
CATEGORIES:13
LOCATION:marseille  \" Cours Julien\"
WEBSITE:http://<iframe width=\"425\" height=\"350\" frameborder=\"0\" 
 scrolling=\"no\" marginheight=\"0\" marginwidth=\"0\" src=\"https://ma
 ps.google.com/maps?f=q&amp;source=s_q&amp;hl=en&amp;geocode=&amp;q=Mar
 seille,+15+du+des+freres+barth%C3%A9lemy+France&amp;aq=&amp;sll=43.293
 14,5.385752&amp;sspn=0.008559,0.021136&amp;ie=UTF8&amp;hq=&amp;hnear=1
 5+Rue+3+Fr%C3%A8res+Barth%C3%A9l%C3%A9my,+13006+Marseille,+Bouches-du-
 Rh%C3%B4ne,+Provence-Alpes-C%C3%B4te+d'Azur,+France&amp;ll=43.293138,5
 .385747&amp;spn=0.008559,0.021136&amp;
URL:http://<iframe width=\"425\" height=\"350\" frameborder=\"0\" scro
 lling=\"no\" marginheight=\"0\" marginwidth=\"0\" src=\"https://maps.g
 oogle.com/maps?f=q&amp;source=s_q&amp;hl=en&amp;geocode=&amp;q=Marseil
 le,+15+du+des+freres+barth%C3%A9lemy+France&amp;aq=&amp;sll=43.29314,5
 .385752&amp;sspn=0.008559,0.021136&amp;ie=UTF8&amp;hq=&amp;hnear=15+Ru
 e+3+Fr%C3%A8res+Barth%C3%A9l%C3%A9my,+13006+Marseille,+Bouches-du-Rh%C
 3%B4ne,+Provence-Alpes-C%C3%B4te+d'Azur,+France&amp;ll=43.293138,5.385
 747&amp;spn=0.008559,0.021136&amp;
CONTACT:06 87 55 10 13
ORGANIZER;CN=VÃ©ro:https://epanews.fr/profile/Vero472
ATTACH;FMTTYPE="image/jpeg":
ATTENDEE;ROLE=REQ-PARTICIPANT;PARTSTAT=ACCEPTED;RSVP=TRUE;CN=VÃ©ro:htt
 ps://epanews.fr/profile/Vero472
END:VEVENT
END:VCALENDAR
