BEGIN:VCALENDAR
PRODID:NingEventWidget-v1
VERSION:2.0
METHOD:PUBLISH
BEGIN:VTIMEZONE
TZID:Europe/Paris
X-LIC-LOCATION:Europe/Paris
BEGIN:DAYLIGHT
TZOFFSETFROM:+0100
TZOFFSETTO:+0200
TZNAME:CEST
DTSTART:19700329T020000
RRULE:FREQ=YEARLY;BYMONTH=3;BYDAY=-1SU
END:DAYLIGHT
BEGIN:STANDARD
TZOFFSETFROM:+0200
TZOFFSETTO:+0100
TZNAME:CET
DTSTART:19701025T030000
RRULE:FREQ=YEARLY;BYMONTH=10;BYDAY=-1SU
END:STANDARD
END:VTIMEZONE
BEGIN:VEVENT
UID:2485226:Event:2828376
DTSTAMP:20260422T091442Z
SUMMARY:Biodanza FÃ©minitÃ© et MasculintÃ© profondes
DESCRIPTION:Stage en rÃ©sidentiel Ã  25 minutes de Toulouse dans un en
 droit superbe Ã  la campagne\nau Parc aux Papillons Ã  Lherm (31)\nHÃ©
 bergement en chambres doubles ou triples et cuisine partagÃ©e en auber
 ge espagnole pour les Femmes, hÃ©bergement en camping et repas partagÃ
 © pour les Hommes.\n\nPour plus d'information, aller sur https://epane
 ws.fr/events/biodanza-f-minit-et-masculint-profondes
DTSTART;TZID=Europe/Paris:20170609T180000
DTEND;TZID=Europe/Paris:20170611T170000
CATEGORIES:31
LOCATION:Toulouse
WEBSITE:http://biodanza-toulouse.fr/stages/
URL:http://biodanza-toulouse.fr/stages/
CONTACT:
ORGANIZER;CN=Jeya:https://epanews.fr/profile/Jeya739
ATTACH;FMTTYPE="image/jpeg":
ATTENDEE;ROLE=REQ-PARTICIPANT;PARTSTAT=ACCEPTED;RSVP=TRUE;CN=Jeya:http
 s://epanews.fr/profile/Jeya739
END:VEVENT
END:VCALENDAR
