BEGIN:VCALENDAR
PRODID:NingEventWidget-v1
VERSION:2.0
METHOD:PUBLISH
BEGIN:VTIMEZONE
TZID:Europe/Paris
X-LIC-LOCATION:Europe/Paris
BEGIN:DAYLIGHT
TZOFFSETFROM:+0100
TZOFFSETTO:+0200
TZNAME:CEST
DTSTART:19700329T020000
RRULE:FREQ=YEARLY;BYMONTH=3;BYDAY=-1SU
END:DAYLIGHT
BEGIN:STANDARD
TZOFFSETFROM:+0200
TZOFFSETTO:+0100
TZNAME:CET
DTSTART:19701025T030000
RRULE:FREQ=YEARLY;BYMONTH=10;BYDAY=-1SU
END:STANDARD
END:VTIMEZONE
BEGIN:VEVENT
UID:2485226:Event:1609675
DTSTAMP:20260423T123839Z
SUMMARY:biodanza en Lorraine : l'art du bonheur
DESCRIPTION:Facilitateur : Bruno Giuliani\nTu veux jouir pleinement de
  la vie? Agrandir ta vitalité et ta créativité?\nVivre avec plus de
  plaisir, d’amour et d’harmonie? Alors viens à la Biodanza ! Une
  fantastique pratique d’épanouissement pour réduire le stress et a
 ugmenter la joie de vivre.  A travers la danse et le mouvement tu dé
 couvriras les meilleurs cotés de toi-même, des autres et de la Vie 
 !\nUne journée pour intensifier ta joie, approfondir ta sérénité e
 t libérer ton enthousiasme. \nLa journée de stage 35 € (2 vivenci
 as) \n\nPour plus d'information, aller sur https://epanews.fr/events/
 biodanza-en-lorraine-l-art-du-bonheur
DTSTART;TZID=Europe/Paris:20131116T100000
DTEND;TZID=Europe/Paris:20131116T190000
CATEGORIES:54
LOCATION:Villers les Nancy
WEBSITE:http://maps.google.com/maps?q=6+Rue+Albert+1er,+Villers-l%C3%A
 8s-Nancy,+France&hl=en&ie=UTF8&ll=48.670021,6.149511&spn=0.01281,0.034
 89&sll=40.713956,-84.023437&sspn=59.252274,142.910156&oq=6+rue+Albert+
 1er+Vill&hnear=6+Rue+Albert+1er,+54600+Villers-l%C3%A8s-Nancy,+Meurthe
 -et-Moselle,+Lorraine,+France&t=m&z=15
URL:http://maps.google.com/maps?q=6+Rue+Albert+1er,+Villers-l%C3%A8s-N
 ancy,+France&hl=en&ie=UTF8&ll=48.670021,6.149511&spn=0.01281,0.03489&s
 ll=40.713956,-84.023437&sspn=59.252274,142.910156&oq=6+rue+Albert+1er+
 Vill&hnear=6+Rue+Albert+1er,+54600+Villers-l%C3%A8s-Nancy,+Meurthe-et-
 Moselle,+Lorraine,+France&t=m&z=15
CONTACT:06 43 33 56 05
ORGANIZER;CN="Christian CRAPOIX":https://epanews.fr/profile/ChristianC
 RAPOIX
ATTACH;FMTTYPE="image/jpeg":http://storage.ning.com/topology/rest/1.0/
 file/get/1662961977?profile=original
ATTENDEE;ROLE=REQ-PARTICIPANT;PARTSTAT=ACCEPTED;RSVP=TRUE;CN="Christia
 n CRAPOIX":https://epanews.fr/profile/ChristianCRAPOIX
END:VEVENT
END:VCALENDAR
