BEGIN:VCALENDAR
PRODID:NingEventWidget-v1
VERSION:2.0
METHOD:PUBLISH
BEGIN:VTIMEZONE
TZID:Europe/Paris
X-LIC-LOCATION:Europe/Paris
BEGIN:DAYLIGHT
TZOFFSETFROM:+0100
TZOFFSETTO:+0200
TZNAME:CEST
DTSTART:19700329T020000
RRULE:FREQ=YEARLY;BYMONTH=3;BYDAY=-1SU
END:DAYLIGHT
BEGIN:STANDARD
TZOFFSETFROM:+0200
TZOFFSETTO:+0100
TZNAME:CET
DTSTART:19701025T030000
RRULE:FREQ=YEARLY;BYMONTH=10;BYDAY=-1SU
END:STANDARD
END:VTIMEZONE
BEGIN:VEVENT
UID:2485226:Event:42577
DTSTAMP:20260419T194429Z
SUMMARY:Biodanza \"danser la vie\" sÃ©ance dÃ©couverte pour tous
DESCRIPTION:La Biodanza est la combinaison entre\n- un ensemble de pro
 positions dâ€™expression corporelle (exercices-danses) sâ€™effectuant 
 seul, Ã  deux ou Ã  plusieurs, Ã  lâ€™intÃ©rieur dâ€™un groupe\n+ des 
 consignes\n+ des musiques variÃ©es, du classique au rock, en passant p
 ar le jazz, les musiques du monde...\nChaque Ã©lÃ©ment est spÃ©cifique
 ment choisi et leur association entraÃ®ne pour chaque danseur, dans le
  moment prÃ©sent,un certain vÃ©cu plus ou moins intense, qui est appel
 Ã© Â«vivenciaÂ».\nCe sont toutes ces vivencias dans une sÃ©ance et au 
 cours dâ€™une pratique rÃ©guliÃ¨re qui servent les objectifs de la Bio
 danza qui sont entre autres:\n-favoriser la rÃ©habilitation de la joie
  de vivre et de lâ€™Ã©lan vital.\n-nous inciter Ã  manifester et Ã©pan
 ouir toutes nos potentialitÃ©s.\n-nous encourager Ã  nourrir et harmon
 iser le lien avec soi, avec lâ€™autre et avec le Â«toutÂ».\n\nSÃ©ance 
 animÃ©e par Bruno Ribant, facilitateur didacte depuis 2001.\n\nPartici
 pation libre:\n-pour une toute premiÃ¨re expÃ©rience\n-pour les initiÃ
 ©s accompagnant un dÃ©butant pour sa premiÃ¨re expÃ©rience\nA chacun d
 â€™estimer une valeur en fonction de sa satisfaction et de ses possibi
 litÃ©s.\n\nEn dehors de ces conditions\n30â‚¬ la journÃ©e\n\nEntre les
  deux sÃ©ances, nous mettrons en commun le pique-nique que chacun aura
  eu la gÃ©nÃ©rositÃ© dâ€™apporter. Pensez, svp, Ã  apporter assiette e
 t couverts\n\nCovoiturage Ã  organiser, nâ€™hÃ©sitez pas Ã  demander. 
 Nous vous mettrons en lien.\n\nMerci de bien vouloir vous inscrire au 
 plus tÃ´t.\nUn minimum de participants est attendu pour pouvoir mainte
 nir la proposition et la salle est limitÃ©e Ã  un maximum de participa
 nts!\n\nA NOTER: prochaine date prÃ©vue pour une sÃ©ance dÃ©couverte p
 our tous: le 13 juin. 10h00 Ã  18h00\n\nPour plus d'information, aller
  sur https://epanews.fr/events/biodanza-danser-la-vie-seance-1
DTSTART;TZID=Europe/Paris:20100523T000000
DTEND;TZID=Europe/Paris:20100523T235900
CATEGORIES:04
LOCATION:Salle de danse, lieu dit de \"Ferme de Font Robert\" / BÃ¢tim
 ent de l'Office du tourisme
WEBSITE:
URL:
CONTACT:04 92 32 19 58 / 06 81 91 64 74
ORGANIZER;CN="Association Chadansouri Ariane":https://epanews.fr/profi
 le/AssociationChadansouri
ATTACH;FMTTYPE="image/jpeg":http://storage.ning.com/topology/rest/1.0/
 file/get/1662291227?profile=original
ATTENDEE;ROLE=REQ-PARTICIPANT;PARTSTAT=ACCEPTED;RSVP=TRUE;CN="Associat
 ion Chadansouri Ariane":https://epanews.fr/profile/AssociationChadanso
 uri
END:VEVENT
END:VCALENDAR
