BEGIN:VCALENDAR
PRODID:NingEventWidget-v1
VERSION:2.0
METHOD:PUBLISH
BEGIN:VTIMEZONE
TZID:Europe/Paris
X-LIC-LOCATION:Europe/Paris
BEGIN:DAYLIGHT
TZOFFSETFROM:+0100
TZOFFSETTO:+0200
TZNAME:CEST
DTSTART:19700329T020000
RRULE:FREQ=YEARLY;BYMONTH=3;BYDAY=-1SU
END:DAYLIGHT
BEGIN:STANDARD
TZOFFSETFROM:+0200
TZOFFSETTO:+0100
TZNAME:CET
DTSTART:19701025T030000
RRULE:FREQ=YEARLY;BYMONTH=10;BYDAY=-1SU
END:STANDARD
END:VTIMEZONE
BEGIN:VEVENT
UID:2485226:Event:382455
DTSTAMP:20260425T130449Z
SUMMARY:Biodanza & Coaching dans la Nature
DESCRIPTION:Stage résidentiel Biodanza dans la nature\nLe but de ce s
 tage est d'approfondir le lien originel de l'être humain avec la natu
 re pour redevenir à nouveau intégré, uni ou entier, et donc guéri
  et sacré. \nLa base de la méthodologie de la Biodanza et de la Bio
 danza en nature en particulier, est le principe biocentrique qui sugg
 ère à l'être humain un retour au lien avec la Vie. Le principe bioc
 entrique est inspiré par la connexion avec la vie et la fonction biol
 ogique de cette connexion.\nL'endroit où nous allons danser se situe 
 dans la nature, le plus loin possible de toute pollution, pour permet
 tre à chacun de retrouver ou de renforcer cette connexion avec la Vie
 . \nCe stage stimulera donc notre autonomie et notre intégrité.\nEn
  plus ce stage est un excellent anti-stress et une invitation au bonhe
 ur et à l'harmonie.\nDans ce stage vous expérimenterez également de
 s outils de Coaching de Vie en Nature. Cette partie sera animée par F
 abien Jacquet, géobiologue, énergéticien et coach de vie:http://coa
 ching-unity.weebly.com.\nLe coaching de vie (life coaching) est un acc
 ompagnement personnalisé à travers les changements dans la vie. A tr
 avers l’utilisation d'outils professionnels et ludiques, le coachin
 g de vie vous permet de prendre conscience de vos capacités et de
  vos qualités et de choisir en toute conscience d’orienter votre 
 vie vers ce que vous désirez.\nLe matin nous vivencions dans la natur
 e et l'après-midi nous bénéficierons du coaching en nature.\nPour i
 nfos et inscriptions:\nenvoyez un mail à caroline@transcendance.be\n
 \nPour plus d'information, aller sur https://epanews.fr/events/biodanz
 a-coaching-dans-la
DTSTART;TZID=Europe/Paris:20110728T000000
DTEND;TZID=Europe/Paris:20110731T235900
CATEGORIES:belgique
LOCATION:Hermeton sur Meuse (GIVET)
WEBSITE:http://www.transcendance.be/test/index.php?option=com_content&
 view=article&id=40&Itemid=79&lang=fr&phpMyAdmin=3024e3f9a1ad70ea5dfea8
 584f3e4f7f
URL:http://www.transcendance.be/test/index.php?option=com_content&view
 =article&id=40&Itemid=79&lang=fr&phpMyAdmin=3024e3f9a1ad70ea5dfea8584f
 3e4f7f
CONTACT:+32 (0) 474 97 67 98
ORGANIZER:Caroline DEKEYSER & Fabien JACQUET
ATTACH;FMTTYPE="image/jpeg":
ATTENDEE;ROLE=REQ-PARTICIPANT;PARTSTAT=ACCEPTED;RSVP=TRUE;CN="JACQUET 
 Fabien":https://epanews.fr/profile/JACQUETFabien
END:VEVENT
END:VCALENDAR
