BEGIN:VCALENDAR
PRODID:NingEventWidget-v1
VERSION:2.0
METHOD:PUBLISH
BEGIN:VTIMEZONE
TZID:Europe/Paris
X-LIC-LOCATION:Europe/Paris
BEGIN:DAYLIGHT
TZOFFSETFROM:+0100
TZOFFSETTO:+0200
TZNAME:CEST
DTSTART:19700329T020000
RRULE:FREQ=YEARLY;BYMONTH=3;BYDAY=-1SU
END:DAYLIGHT
BEGIN:STANDARD
TZOFFSETFROM:+0200
TZOFFSETTO:+0100
TZNAME:CET
DTSTART:19701025T030000
RRULE:FREQ=YEARLY;BYMONTH=10;BYDAY=-1SU
END:STANDARD
END:VTIMEZONE
BEGIN:VEVENT
UID:2485226:Event:992794
DTSTAMP:20260424T202426Z
SUMMARY:Biodanza Ã  Chatou
DESCRIPTION:Une soirÃ©e Ã  Danser, Ã  sourire,Â Ã  vivre l'instant prÃ
 ©sent,\nÃ‡a vous dit ?\nÂ \nC'est ce que propose le cours de Biodanza 
 le Chatou.\nÂ \nPour ceux qui ne connaissent pas la Biodanza ces quelq
 ues lignes :\nÂ \nLa Biodanza vise le plaisir dans le mouvement, la re
 ncontre avec soi et les autres, Ã  danser comme on le ressent, voire m
 Ãªme de sâ€™autoriser Ã  se lÃ¢cher complÃ¨tementâ€¦\nÂ \nElle invite 
 Ã  :\n\nNous sentir heureux et plus enthousiaste\nAmÃ©liorer notre san
 tÃ©\nRÃ©habiliter notre confiance et notre estime de nous\nIntÃ©grer n
 os sentiments, nos actions et nos pensÃ©es\nEnrichir nos rencontres\nS
 timuler notre crÃ©ativitÃ©\nVivre des relations harmonieuses et authen
 tiques\nDÃ©velopper notre capacitÃ© Ã  aimer et Ã  Ãªtre aimÃ©\n\nGrac
 e Ã  des mouvements simples rÃ©alisÃ©s en musique, la Biodanza est acc
 essible Ã  tous.\nÂ \nTarifs :\nLa sÃ©ance dÃ©couverte de la Biodanza 
 est Ã  5â‚¬.\nPour ceux qui en ont dÃ©jÃ  fait, c'est 18â‚¬\nCarte d'a
 bonnement : 13â‚¬ la sÃ©ance.\nIl y a des forfaits pour plusieurs sÃ©a
 nces et des rÃ©ductions pour certains publics.\nÂ \nTenue confortable 
 conseillÃ©e. On danse pieds nus, en chaussettes, ou en chaussons de da
 nse.\nÂ \nPour venir :\nPar exemple, train jusque gare d'Houilles Carr
 iÃ¨re sur Seine, puis bus nÂ°3 Ã  18h24 jusque \"CollÃ¨ge Auguste Reno
 ir\", pour arriver Ã  la salle vers 18h40.\nPlan et horaires :Â http:/
 /www.idf.veolia-transport.fr/\n\nPour plus d'information, aller sur ht
 tps://epanews.fr/events/biodanza-chatou
DTSTART;TZID=Europe/Paris:20121025T190000
DTEND;TZID=Europe/Paris:20121025T204500
CATEGORIES:78
LOCATION:Chatou
WEBSITE:http://www.vivresavie.org
URL:http://www.vivresavie.org
CONTACT:0685592770
ORGANIZER;CN=Nadine:https://epanews.fr/profile/Nadine737
ATTACH;FMTTYPE="image/jpeg":http://storage.ning.com/topology/rest/1.0/
 file/get/1662683726?profile=original
ATTENDEE;ROLE=REQ-PARTICIPANT;PARTSTAT=ACCEPTED;RSVP=TRUE;CN=Nadine:ht
 tps://epanews.fr/profile/Nadine737
END:VEVENT
END:VCALENDAR
