BEGIN:VCALENDAR
PRODID:NingEventWidget-v1
VERSION:2.0
METHOD:PUBLISH
BEGIN:VTIMEZONE
TZID:Europe/Paris
X-LIC-LOCATION:Europe/Paris
BEGIN:DAYLIGHT
TZOFFSETFROM:+0100
TZOFFSETTO:+0200
TZNAME:CEST
DTSTART:19700329T020000
RRULE:FREQ=YEARLY;BYMONTH=3;BYDAY=-1SU
END:DAYLIGHT
BEGIN:STANDARD
TZOFFSETFROM:+0200
TZOFFSETTO:+0100
TZNAME:CET
DTSTART:19701025T030000
RRULE:FREQ=YEARLY;BYMONTH=10;BYDAY=-1SU
END:STANDARD
END:VTIMEZONE
BEGIN:VEVENT
UID:2485226:Event:557805
DTSTAMP:20260423T024626Z
SUMMARY:Biodanza à Aix en Provence
DESCRIPTION:                             
  Danser la Vie\n \nRetrouver la Joie, la Vitalité, l'Enthousiasme, l
 a Confiance et l'Estime de soi, le plaisir de vivre et de danser la Vi
 e.\nRetrouver la joie, la légèreté en relation à soi, à l'autre, 
 aux autres et à tout ce qui nous entoure.\nAucun besoin de danser pou
 r pratiquer l'art de danser sa vie.\n\nPour plus d'information, aller 
 sur https://epanews.fr/events/biodanza-aix-en-provence
DTSTART;TZID=Europe/Paris:20111012T194500
DTEND;TZID=Europe/Paris:20111012T220000
CATEGORIES:13
LOCATION:AIX EN PROVENCE
WEBSITE:
URL:
CONTACT:06.30.60.42.11
ORGANIZER;CN="Fleur de Lotus":https://epanews.fr/profile/FleurdeLotus
ATTACH;FMTTYPE="image/jpeg":http://storage.ning.com/topology/rest/1.0/
 file/get/1662472738?profile=original
ATTENDEE;ROLE=REQ-PARTICIPANT;PARTSTAT=ACCEPTED;RSVP=TRUE;CN="Fleur de
  Lotus":https://epanews.fr/profile/FleurdeLotus
END:VEVENT
END:VCALENDAR
