BEGIN:VCALENDAR
PRODID:NingEventWidget-v1
VERSION:2.0
METHOD:PUBLISH
BEGIN:VTIMEZONE
TZID:Europe/Paris
X-LIC-LOCATION:Europe/Paris
BEGIN:DAYLIGHT
TZOFFSETFROM:+0100
TZOFFSETTO:+0200
TZNAME:CEST
DTSTART:19700329T020000
RRULE:FREQ=YEARLY;BYMONTH=3;BYDAY=-1SU
END:DAYLIGHT
BEGIN:STANDARD
TZOFFSETFROM:+0200
TZOFFSETTO:+0100
TZNAME:CET
DTSTART:19701025T030000
RRULE:FREQ=YEARLY;BYMONTH=10;BYDAY=-1SU
END:STANDARD
END:VTIMEZONE
BEGIN:VEVENT
UID:2485226:Event:58562
DTSTAMP:20260419T211439Z
SUMMARY:biodanza air et feu, tigre et héron
DESCRIPTION:Bonjour Les Amis\n\nMa proposition pour Dimanche est celle
  de danser la force alchimique du feu et de l' air reliée à la force
  animale du tigre et du héron\nDanser les éléments archétypiques n
 ous transforme en contactant les dimensions révélées de notre merve
 illeuse complexité humaine\n\n\n\nOh feu primordial ,tu cours sur la 
 robe fauve du tigre bengal\nSous la force du vent l' oiseau rit de son
  chant\n\nPour plus d'information, aller sur https://epanews.fr/events
 /biodanza-air-et-feu-tigre-et-1
DTSTART;TZID=Europe/Paris:20100509T000000
DTEND;TZID=Europe/Paris:20100509T235900
CATEGORIES:33
LOCATION:studio de danse louis combes
WEBSITE:http://biodanza-chris-bordeaux.blog4ever.com
URL:http://biodanza-chris-bordeaux.blog4ever.com
CONTACT:0688691987
ORGANIZER;CN="christine speroni-galdos":https://epanews.fr/profile/chr
 istinesperonigaldos
ATTACH;FMTTYPE="image/jpeg":http://storage.ning.com/topology/rest/1.0/
 file/get/1662301280?profile=original
ATTENDEE;ROLE=REQ-PARTICIPANT;PARTSTAT=ACCEPTED;RSVP=TRUE;CN="christin
 e speroni-galdos":https://epanews.fr/profile/christinesperonigaldos
END:VEVENT
END:VCALENDAR
