BEGIN:VCALENDAR
PRODID:NingEventWidget-v1
VERSION:2.0
METHOD:PUBLISH
BEGIN:VTIMEZONE
TZID:Europe/Paris
X-LIC-LOCATION:Europe/Paris
BEGIN:DAYLIGHT
TZOFFSETFROM:+0100
TZOFFSETTO:+0200
TZNAME:CEST
DTSTART:19700329T020000
RRULE:FREQ=YEARLY;BYMONTH=3;BYDAY=-1SU
END:DAYLIGHT
BEGIN:STANDARD
TZOFFSETFROM:+0200
TZOFFSETTO:+0100
TZNAME:CET
DTSTART:19701025T030000
RRULE:FREQ=YEARLY;BYMONTH=10;BYDAY=-1SU
END:STANDARD
END:VTIMEZONE
BEGIN:VEVENT
UID:2485226:Event:1423669
DTSTAMP:20260421T173411Z
SUMMARY:Biodanza et fête de la musique à Ris-Orangis (91)
DESCRIPTION:Une pratique simple et joyeuse Une proposition de mouvemen
 ts accessibles à tous Le plaisir de se sentir intensément vivant.\nC
 ’est une approche de bien-être globale !\n« Pas d’enchaînements
  compliqués, ni de pas imposés. Chacun s’exprime en toute liberté
 . Le but : trouver le geste qui traduit le mieux ses émotions pour fa
 ciliter créativité, ouverture aux autres et respect ».\nLâcher le 
 stress de la vie quotidienne et retrouver l’élan et la joie de vivr
 e Renforcer sa santé et se percevoir intensément vivant Réveiller n
 otre énergie créatrice et notre spontanéité en retrouvant confianc
 e et estime de soi\nRetrouver la capacité de s’émerveiller de la b
 eauté du monde...\n\"Nous avons tous au fond de nous une pierre qui n
 'est autre qu'un diamant qui s'est terni et dont nous devons retrouver
  l'éclat\" P. Lenaif, professeur de Biodanza\n\nPour plus d'informati
 on, aller sur https://epanews.fr/events/biodanza-91
DTSTART;TZID=Europe/Paris:20130621T200000
DTEND;TZID=Europe/Paris:20130621T220000
CATEGORIES:91130
LOCATION:RIS-ORANGIS 91130, N7, Place Jacques Brel, Salle de la passer
 elle,
WEBSITE:http://www.bienetre-spp-biodanza91.com
URL:http://www.bienetre-spp-biodanza91.com
CONTACT:0669352802
ORGANIZER:Marie-Agnès BOUCHY
ATTACH;FMTTYPE="image/jpeg":
ATTENDEE;ROLE=REQ-PARTICIPANT;PARTSTAT=ACCEPTED;RSVP=TRUE;CN=Marie-Agn
 ès:https://epanews.fr/profile/MarieAgnesBOUCHY
END:VEVENT
END:VCALENDAR
