BEGIN:VCALENDAR
PRODID:NingEventWidget-v1
VERSION:2.0
METHOD:PUBLISH
BEGIN:VTIMEZONE
TZID:Europe/Paris
X-LIC-LOCATION:Europe/Paris
BEGIN:DAYLIGHT
TZOFFSETFROM:+0100
TZOFFSETTO:+0200
TZNAME:CEST
DTSTART:19700329T020000
RRULE:FREQ=YEARLY;BYMONTH=3;BYDAY=-1SU
END:DAYLIGHT
BEGIN:STANDARD
TZOFFSETFROM:+0200
TZOFFSETTO:+0100
TZNAME:CET
DTSTART:19701025T030000
RRULE:FREQ=YEARLY;BYMONTH=10;BYDAY=-1SU
END:STANDARD
END:VTIMEZONE
BEGIN:VEVENT
UID:2485226:Event:2924744
DTSTAMP:20260421T172111Z
SUMMARY:BientÃ´t un supermarchÃ© coopÃ©ratif Ã  toulon
DESCRIPTION:L'association Lamibonheur Â organise une rÃ©union d'inform
 ation sur la crÃ©ation d'un supermarchÃ© coopÃ©ratif Ã  Toulon.\nconsa
 crÃ© Ã  lâ€™alimentation de qualitÃ©, prioritairement de production lo
 cale et Â«bioÂ», dans la mesure du possible, mobilise lâ€™Ã©nergie de 
 quelques passionnÃ©s.\nAujourd'hui, ils sont 420 sur lâ€™aire toulonna
 ise, Ã  partager lâ€™Ã©volution de ce projet.Â \nMaintenant Â«La Coop 
 sur MerÂ» reÃ§oit le soutien du premier supermarchÃ© coopÃ©ratif franÃ
 §ais, Â«La LouveÂ», Ã Â Paris.\nLe projet avance, les objectifs sont d
 Ã©finis, les groupes de travail sont en place et recherchent toujours 
 des bonnes volontÃ©s.\nÂ Un petit local, louÃ© au cÅ“ur de la ville â€
 “Traverse des Capucins- permet dÃ©jÃ  de tenir des permanences deux fo
 is par semaine, dâ€™organiser des ventes de produits locaux â€“et souv
 ent Â«Â bioÂ Â».\nlâ€™ouverture dâ€™une Ã©picerie participative est so
 uhaitÃ©e en mars 2018, en attendant le supermarchÃ© coopÃ©ratif qui, p
 our Ãªtre viable, doit pouvoir sâ€™appuyer sur lâ€™adhÃ©sion de 1500 c
 oopÃ©rateurs au moins quiÂ pourront remplir leur caddie et participer 
 au fonctionnement en donnant un peu de temps chaque mois.\nTrouver un 
 local suffisant pour abriter une surface de vente et une surface de st
 ockage.\nBien entendu, il faut aussi un financement Ã  la hauteur. Ave
 c sagesse, Â«Â La Coop sur MerÂ Â» prÃ©voit une ouverture en juin 2019
 , sur le secteur de Toulon centre, Toulon ouest ou Bas Faron.\nÂ lacoo
 psurmer.fr/le-projet-de-supermarche-cooperatif-a-toulon\nIl est viveme
 nt conseillÃ© de s' inscrire sur le lien suivant, les places Ã©tant li
 mitÃ©es Â pas d'inscription sur le site de l'unitÃ© pour pouvoir gÃ©re
 r:\nhttps://www.inscription-facile.com/form/4Jj5l0YOEX0tMxA79PNL\nÂ \n
 \nPour plus d'information, aller sur https://epanews.fr/events/bient-t
 -un-supermarch-coop-ratif-toulon
DTSTART;TZID=Europe/Paris:20180217T100000
DTEND;TZID=Europe/Paris:20180217T120000
CATEGORIES:83
LOCATION:toulon ouest
WEBSITE:https://www.google.fr/maps/place/20+Rue+de+la+Martinique,+8320
 0+Toulon/@43.1356912,5.9003439,17z/data=!3m1!4b1!4m5!3m4!1s0x12c91b2bb
 7b72859:0x31c4f5c05ef08d52!8m2!3d43.1356912!4d5.9025379?hl=fr
URL:https://www.google.fr/maps/place/20+Rue+de+la+Martinique,+83200+To
 ulon/@43.1356912,5.9003439,17z/data=!3m1!4b1!4m5!3m4!1s0x12c91b2bb7b72
 859:0x31c4f5c05ef08d52!8m2!3d43.1356912!4d5.9025379?hl=fr
CONTACT:0661912800
ORGANIZER;CN="Patrick MALLET":https://epanews.fr/profile/mallet
ATTACH;FMTTYPE="image/jpeg":http://storage.ning.com/topology/rest/1.0/
 file/get/1663717449?profile=original
ATTENDEE;ROLE=REQ-PARTICIPANT;PARTSTAT=ACCEPTED;RSVP=TRUE;CN=Presence:
 https://epanews.fr/profile/Presence
ATTENDEE;ROLE=REQ-PARTICIPANT;PARTSTAT=ACCEPTED;RSVP=TRUE;CN="Patrick 
 MALLET":https://epanews.fr/profile/mallet
END:VEVENT
END:VCALENDAR
