BEGIN:VCALENDAR
PRODID:NingEventWidget-v1
VERSION:2.0
METHOD:PUBLISH
BEGIN:VTIMEZONE
TZID:Europe/Paris
X-LIC-LOCATION:Europe/Paris
BEGIN:DAYLIGHT
TZOFFSETFROM:+0100
TZOFFSETTO:+0200
TZNAME:CEST
DTSTART:19700329T020000
RRULE:FREQ=YEARLY;BYMONTH=3;BYDAY=-1SU
END:DAYLIGHT
BEGIN:STANDARD
TZOFFSETFROM:+0200
TZOFFSETTO:+0100
TZNAME:CET
DTSTART:19701025T030000
RRULE:FREQ=YEARLY;BYMONTH=10;BYDAY=-1SU
END:STANDARD
END:VTIMEZONE
BEGIN:VEVENT
UID:2485226:Event:518824
DTSTAMP:20260422T154018Z
SUMMARY:Bientôt un Cabinet d'Hypnothérapie au Z5
DESCRIPTION:Le complexe sportif Z5 (inauguré le 23 juin par Zinédine
  Zidane) aux Milles se dote en octobre d'un Cabinet d'hypnothérapie.\
 nOuvert à tous, en thérapies individuelles ou de groupe : adultes, a
 dos ou enfants, femmes et hommes en recherche de mieux-être dans le c
 orps et dans la tête, sportifs de tous niveaux en quête de performan
 ces, travailleurs sur-stressés qui rêvent de détente, de calme, de 
 temps pour soi ...\n\n \n\nPour plus d'information, aller sur https:/
 /epanews.fr/events/bient-t-un-cabinet-d-hypnoth-rapie-au-z5
DTSTART;TZID=Europe/Paris:20110921T180000
DTEND;TZID=Europe/Paris:20110921T190000
CATEGORIES:13
LOCATION:Aix en Provence
WEBSITE:http://www.z5complexe.com et www.actiform-aix.com
URL:http://www.z5complexe.com et www.actiform-aix.com
CONTACT:06.32.11.91.45
ORGANIZER;CN="Martine Lasausse":https://epanews.fr/profile/MartineLasa
 usse
ATTACH;FMTTYPE="image/jpeg":http://storage.ning.com/topology/rest/1.0/
 file/get/1662456077?profile=original
ATTENDEE;ROLE=REQ-PARTICIPANT;PARTSTAT=ACCEPTED;RSVP=TRUE;CN="Martine 
 Lasausse":https://epanews.fr/profile/MartineLasausse
END:VEVENT
END:VCALENDAR
