BEGIN:VCALENDAR
PRODID:NingEventWidget-v1
VERSION:2.0
METHOD:PUBLISH
BEGIN:VTIMEZONE
TZID:Europe/Paris
X-LIC-LOCATION:Europe/Paris
BEGIN:DAYLIGHT
TZOFFSETFROM:+0100
TZOFFSETTO:+0200
TZNAME:CEST
DTSTART:19700329T020000
RRULE:FREQ=YEARLY;BYMONTH=3;BYDAY=-1SU
END:DAYLIGHT
BEGIN:STANDARD
TZOFFSETFROM:+0200
TZOFFSETTO:+0100
TZNAME:CET
DTSTART:19701025T030000
RRULE:FREQ=YEARLY;BYMONTH=10;BYDAY=-1SU
END:STANDARD
END:VTIMEZONE
BEGIN:VEVENT
UID:2485226:Event:1597152
DTSTAMP:20260423T144826Z
SUMMARY:Bien avec les autres - Exprimez-vous
DESCRIPTION:Communiquer avec sÃ©rÃ©nitÃ© et assertivitÃ© ? / EXPRIMEZ-
 VOUS !!\nMarre ne pas rÃ©ussir Ã  exprimer votre opinion en Ã©tant ent
 endu et/ou en restant calme â€¦Â ?\nAssez de ruminer et dâ€™en vouloir
  Ã  lâ€™autre de ne pas comprendre et Ã  â€¦ vous de ne pas rÃ©ussir Ã
   dire â€¦ ?\nRaz le bol de ne pas dire ce que vous avez Ã  dire ?\nSi
  vous avez dÃ©cidÃ© dâ€™enfin savoir exprimer ce que vous avez sur le 
 cÅ“ur, vous trouverez :\n> des pistes de rÃ©flexion,Â Â \n> de la prat
 ique, Ã  dÃ©couvrir Ã  EXPRIMEZ-VOUS !\nVotre nouvel atelier dâ€™auto-
 coaching\n= 2 h de rÃ©flexion intelligente et motivante pour passer Ã 
  lâ€™action\ndans un lieu prÃ©servÃ©, calme et Ã  lâ€™Ã©cart du tumult
 e, en plein Paris,\npour avancer ... vers votre meilleur vous !\nVous 
 en repartirez en sachant :\nÂ :) ce que vous voulez vraiment exprimer 
 et votre vrai objectif\nÂ :) trouver les mots pour le dire,\nÂ :) et s
 urtout comment les exprimer !\nÂ Mardi 12 novembre â€“ 19h30/21h30\nPr
 ogramme et inscription ici\nwww.latitudejuste.com\n\nPour plus d'infor
 mation, aller sur https://epanews.fr/events/bien-avec-les-autres-expri
 mez-vous
DTSTART;TZID=Europe/Paris:20131112T193000
DTEND;TZID=Europe/Paris:20131112T213000
CATEGORIES:75
LOCATION:Paris 11
WEBSITE:http://www.latitudejuste.com
URL:http://www.latitudejuste.com
CONTACT:0609451454
ORGANIZER;CN=Latitudejuste:https://epanews.fr/profile/Latitudejuste
ATTACH;FMTTYPE="image/jpeg":http://storage.ning.com/topology/rest/1.0/
 file/get/1662953968?profile=original
ATTENDEE;ROLE=REQ-PARTICIPANT;PARTSTAT=ACCEPTED;RSVP=TRUE;CN=Latitudej
 uste:https://epanews.fr/profile/Latitudejuste
END:VEVENT
END:VCALENDAR
