BEGIN:VCALENDAR
PRODID:NingEventWidget-v1
VERSION:2.0
METHOD:PUBLISH
BEGIN:VTIMEZONE
TZID:Europe/Paris
X-LIC-LOCATION:Europe/Paris
BEGIN:DAYLIGHT
TZOFFSETFROM:+0100
TZOFFSETTO:+0200
TZNAME:CEST
DTSTART:19700329T020000
RRULE:FREQ=YEARLY;BYMONTH=3;BYDAY=-1SU
END:DAYLIGHT
BEGIN:STANDARD
TZOFFSETFROM:+0200
TZOFFSETTO:+0100
TZNAME:CET
DTSTART:19701025T030000
RRULE:FREQ=YEARLY;BYMONTH=10;BYDAY=-1SU
END:STANDARD
END:VTIMEZONE
BEGIN:VEVENT
UID:2485226:Event:1609789
DTSTAMP:20260423T145305Z
SUMMARY:Besoins existentiels et spirituels, lâ€™Ãªtre intÃ©rieur et le
  sens de la vie
DESCRIPTION:SoirÃ©e d'Ã©changes\nLa Gnose est la connaissance de lâ€™U
 niversel. Cet enseignement existe en tant que plÃ©nitude de rayonnemen
 t et sâ€™adresse directement Ã  lâ€™homme dont la conscience-Ã‚me comm
 ence Ã  sâ€™Ã©veiller. Nous vous proposons au cours de soirÃ©es dâ€™Ã©
 changes dâ€™approcher de cet enseignement, du chemin envisagÃ©, de sa 
 rÃ©alisation, Ã  travers diffÃ©rents thÃ¨mes et Ã©clairages :Â   > Bes
 oins existentiels et spirituels, lâ€™Ãªtre intÃ©rieur et le sens de la
  vieÂ   > Voies et chemins - Qu'est-ce que la Gnose ?Â  S'affranchir d
 es dogmes, la voix du cÅ“ur  > MystÃ¨res de lâ€™origine - Se connaÃ®tr
 e autrement, karma et libre arbitre  > La quÃªte de la lumiÃ¨re - Quâ€
 ™est-ce qui nous libÃ¨re ?Â   > Libres dans le monde - Vers la loi de 
 l'EspritÂ   > Les Ã©coles spirituelles - Conscience et rÃ©volution int
 Ã©rieureÂ   > Poursuivre son chemin - Autonomie et communautÃ© d'Ã¢mes
 \nEntrÃ©e libre et gratuite\n\nPour plus d'information, aller sur http
 s://epanews.fr/events/besoins-existentiels-et-spirituels-l-tre-int-rie
 ur-et-le-sens-de
DTSTART;TZID=Europe/Paris:20131112T183000
DTEND;TZID=Europe/Paris:20131112T200000
CATEGORIES:31
LOCATION:Ecole gnostique de la Rose-Croix d'Or
WEBSITE:http://toulouse.rose-croix-d-or.org
URL:http://toulouse.rose-croix-d-or.org
CONTACT:33688761098
ORGANIZER:Ecole gnostique de la Rose-Croix d'Or
ATTACH;FMTTYPE="image/jpeg":http://storage.ning.com/topology/rest/1.0/
 file/get/1662962150?profile=original
ATTENDEE;ROLE=REQ-PARTICIPANT;PARTSTAT=ACCEPTED;RSVP=TRUE;CN="Christia
 n Malgras":https://epanews.fr/profile/ChristianMalgras
END:VEVENT
END:VCALENDAR
