BEGIN:VCALENDAR
PRODID:NingEventWidget-v1
VERSION:2.0
METHOD:PUBLISH
BEGIN:VTIMEZONE
TZID:Europe/Paris
X-LIC-LOCATION:Europe/Paris
BEGIN:DAYLIGHT
TZOFFSETFROM:+0100
TZOFFSETTO:+0200
TZNAME:CEST
DTSTART:19700329T020000
RRULE:FREQ=YEARLY;BYMONTH=3;BYDAY=-1SU
END:DAYLIGHT
BEGIN:STANDARD
TZOFFSETFROM:+0200
TZOFFSETTO:+0100
TZNAME:CET
DTSTART:19701025T030000
RRULE:FREQ=YEARLY;BYMONTH=10;BYDAY=-1SU
END:STANDARD
END:VTIMEZONE
BEGIN:VEVENT
UID:2485226:Event:1422052
DTSTAMP:20260421T191056Z
SUMMARY:Besoin de vous détendre? rdv dimanche 23 Juin Meaux
DESCRIPTION:Je vous propose une séance de relaxation en plein air au 
 parc du Pâtis à Meaux\nNous nous reconnecterons à notre corps et no
 us évacuerons les soucis de la semaine à l'aide de techniques simple
 s, mentales et corporelles.\nLa séance se fera en plein air mais dans
  un endroit où il y a un toit au cas où la pluie voudrait participer
  aussi.\nJe vous donne rdv Dimanche 23 Juin à la plage de Meaux à 10
 h30.\nLa séance durera environ jusqu'à midi. La participation est li
 bre (à partir d'1€).\nLes places étant limitées pour plus d'effic
 acité et de convivialité, veuillez svp me prévenir de votre présen
 ce par message ou en vous inscrivant sur le site : www.florence-julien
 -sophrologue.com\nEn espérant que le soleil sera aussi au rdv! A bien
 tôt!\n\nPour plus d'information, aller sur https://epanews.fr/events/
 besoin-de-vous-d-tendre-rdv-dimanche-23-juin-meaux
DTSTART;TZID=Europe/Paris:20130623T103000
DTEND;TZID=Europe/Paris:20130623T120000
CATEGORIES:77
LOCATION:Meaux
WEBSITE:http://www.florence-julien-sophrologue.com
URL:http://www.florence-julien-sophrologue.com
CONTACT:0672160524
ORGANIZER:Florence, sophrologue diplômée
ATTACH;FMTTYPE="image/jpeg":
ATTENDEE;ROLE=REQ-PARTICIPANT;PARTSTAT=ACCEPTED;RSVP=TRUE;CN=Florence:
 https://epanews.fr/profile/Florence719
END:VEVENT
END:VCALENDAR
