BEGIN:VCALENDAR
PRODID:NingEventWidget-v1
VERSION:2.0
METHOD:PUBLISH
BEGIN:VTIMEZONE
TZID:Europe/Paris
X-LIC-LOCATION:Europe/Paris
BEGIN:DAYLIGHT
TZOFFSETFROM:+0100
TZOFFSETTO:+0200
TZNAME:CEST
DTSTART:19700329T020000
RRULE:FREQ=YEARLY;BYMONTH=3;BYDAY=-1SU
END:DAYLIGHT
BEGIN:STANDARD
TZOFFSETFROM:+0200
TZOFFSETTO:+0100
TZNAME:CET
DTSTART:19701025T030000
RRULE:FREQ=YEARLY;BYMONTH=10;BYDAY=-1SU
END:STANDARD
END:VTIMEZONE
BEGIN:VEVENT
UID:2485226:Event:2568069
DTSTAMP:20260422T020644Z
SUMMARY:Benediction de l'uterus et soin fÃ©minin
DESCRIPTION:BÃ©nÃ©diction mondiale de lâ€™UtÃ©rus\nproposÃ©e par Miran
 da Gray.Â \nAnimÃ© par BÃ©nÃ©dicte Delaire\nLundi 22 fÃ©vrier\nDÃ¨s 18
 h15Â Â pour vivre ensemble ce temps prÃ©cieux de la bÃ©nÃ©diction.\nJe
  vous propose aussi de bÃ©nÃ©ficier dâ€™un soin de lâ€™UtÃ©rus avant l
 a bÃ©nÃ©diction.\nCe soin est vraiment un complÃ©ment Ã  la bÃ©nÃ©dict
 ion. Il permet de travailler sur les problÃ©matiques physiquesÂ  et le
 s schÃ©mas Ã©motionnels que nous avons tendance Ã  accumuler dans notr
 e bassin...\nIl sâ€™agit dâ€™un soin doux qui facilite la connexion ou
  reconnexion Ã  notre corps et particuliÃ¨rement notre bassin et parti
 culiÃ¨rement notre utÃ©rusÂ : Notre centre sacrÃ©Â !\nJe vous propose 
 donc ces diffÃ©rents crÃ©neaux horaires :Â 14h30, 15H, 15h30, 16h, 16h
 30, 17h\nAprÃ¨s le soin vous aurez la possibilitÃ© de rester en silenc
 e dans la salle afin de vous laisser le temps de goÃ»ter pleinement ce
  que vous aurez reÃ§u. Ou de rentrer paisiblement chez vous.\nCe soin 
 peut Ãªtre aussi reÃ§u uniquement sans vivre la bÃ©nÃ©diction mondiale
 .\nSâ€™il vous reste des interrogations, appelez moi, je serai ravie d
 â€™Ã©changer avec vous Ã  ce propos.\nCi-dessous quelques info supplÃ©
 mentaires.\nMerci de vous inscrire pour le soin en prÃ©cisant quel crÃ
 ©neau horaire vous convient. Â \nLa participation est de 25 euros\nLe 
 soin de l'UtÃ©rus:Â \nIl se concentre sur l'activation et la circulati
 on entre lestrois centres d'Ã©nergieque sont:\nÂ - laÂ glande Pituitai
 re(l'Etoile), dans le cerveau, qui rÃ©gule nos hormones et la quantitÃ
 © de LumiÃ¨re spirituelle que nous pouvons porter.\nÂ - leÂ centre du 
 CoeurÂ (le calice), reliÃ© Ã  notre poitrine et Ã  nos mains, qui dÃ©t
 ient l'abondance et la gÃ©nÃ©rositÃ©, l'amour dÃ©sintÃ©ressÃ© et l'amo
 ur inconditionnel.\nÂ - l'UtÃ©rusÂ (le Chaudron), le centre de notre r
 elation Ã  la Terre et au Monde, ainsi que de l'intimitÃ©, la crÃ©ativ
 itÃ©, la sexualitÃ© sensuelle et la spiritualitÃ© fÃ©minine.\nLe soin 
 de l'UtÃ©rus travaille sur les problÃ¨mes physiques et les schÃ©mas Ã©
 motionnels que nous avons tendance Ã  accumuler au niveau de nos hanch
 es et notre ventre.\nEn particulier, ce soin travaille sur les 4 archÃ
 ©types fÃ©minins du cycle menstruel et sur notre faÃ§on d'accueillir l
 eurs Ã©nergies et leur prÃ©sence aussi bien comme femme cyclique que c
 omme femme complÃ¨te (aprÃ¨s la mÃ©nopause).\nCe soin peut apporter l'
 Ã©quilibre dans un cycle menstruelÂ perturbÃ©, ainsi que la stabilitÃ©
  du sentiment de qui nous sommes. Il peut apporter la complÃ©tude si n
 ous n'avons plus de cycle.\nJe souhaite que votre chemin sâ€™illumine 
 de Joie et de la beautÃ© dâ€™Ãªtre vous-mÃªme.\nAu plaisir dâ€™une ren
 contre.\nBÃ©nÃ©dicte DelaireÂ :Â Moon Mother AvancÃ© :Â 06 75 50 53 12
 \n\nPour plus d'information, aller sur https://epanews.fr/events/bened
 iction-de-l-uterus-et-soin-f-minin
DTSTART;TZID=Europe/Paris:20160222T140000
DTEND;TZID=Europe/Paris:20160222T220000
CATEGORIES:38
LOCATION:38
WEBSITE:https://goo.gl/maps/xR6sAH7jxUt
URL:https://goo.gl/maps/xR6sAH7jxUt
CONTACT:06 75 50 53 12
ORGANIZER;CN="Sentihes ValÃ©rie":https://epanews.fr/profile/AmourouxVa
 lerie
ATTACH;FMTTYPE="image/jpeg":http://storage.ning.com/topology/rest/1.0/
 file/get/1663521718?profile=original
ATTENDEE;ROLE=REQ-PARTICIPANT;PARTSTAT=ACCEPTED;RSVP=TRUE;CN="Sentihes
  ValÃ©rie":https://epanews.fr/profile/AmourouxValerie
END:VEVENT
END:VCALENDAR
