BEGIN:VCALENDAR
PRODID:NingEventWidget-v1
VERSION:2.0
METHOD:PUBLISH
BEGIN:VTIMEZONE
TZID:Europe/Paris
X-LIC-LOCATION:Europe/Paris
BEGIN:DAYLIGHT
TZOFFSETFROM:+0100
TZOFFSETTO:+0200
TZNAME:CEST
DTSTART:19700329T020000
RRULE:FREQ=YEARLY;BYMONTH=3;BYDAY=-1SU
END:DAYLIGHT
BEGIN:STANDARD
TZOFFSETFROM:+0200
TZOFFSETTO:+0100
TZNAME:CET
DTSTART:19701025T030000
RRULE:FREQ=YEARLY;BYMONTH=10;BYDAY=-1SU
END:STANDARD
END:VTIMEZONE
BEGIN:VEVENT
UID:2485226:Event:2273491
DTSTAMP:20260423T152734Z
SUMMARY:BenÃ©diction de l' UtÃ©rus Ã  Nimes le 4 mai
DESCRIPTION:BÃ©nÃ©diction de l'UtÃ©rus Ã  Nimes Mai 2015\nCe 4 mai 201
 5, Ã©veillez et cÃ©lÃ©brez votre fÃ©minitÃ© pendant la BÃ©nÃ©diction M
 ondiale de l'UtÃ©rus et rejoingnez nous pour le soin et la mÃ©ditation
  en reliance avec toutes les femmes ici et lÃ  Cette BÃ©nÃ©diction en 
 lien avec l Ã©nergie du printemps, nous invitent Ã  laisser Ã©clore le
 s graines de nos potentiels, Ã  laisser la musique des fleurs de nos c
 oeurs , nos utÃ©rus chanter la musique du FÃ©minin Divin Le soin et la
  mÃ©ditation se fera au Jardin D'hygiÃ© et PanacÃ©e,14 bis rue Frankel
 in Roosevelt - NÃ®mes( Centre Ville) de 19H Ã  21h Une participation d
 e 10 euros est demandÃ©e, ainsi que de rÃ©server Pour plus d' infos su
 r:http://lechantdesarbres.over-blog.com/ ou YaÃªl 06 20 34 54 99 Ã  bi
 entÃ´t YaÃªl Ps Ã  Amener deux petits bols, une bougie ainsi qu'un chÃ
 ¢le Ã€ toutes celles qui le souhaitent fruits et fleurs et tabac pour 
 les offrandeshttp://lechantdesarbres.over-blog.com/2015/03/benediction
 -de-l-uterus-a-nimes-mai-2015.html\n\nPour plus d'information, aller s
 ur https://epanews.fr/events/ben-diction-de-l-utrus-nimes-le-mai
DTSTART;TZID=Europe/Paris:20150504T180000
DTEND;TZID=Europe/Paris:20150504T210000
CATEGORIES:30
LOCATION:nimes
WEBSITE:http://lechantdesarbres.over-blog.com
URL:http://lechantdesarbres.over-blog.com
CONTACT:0
ORGANIZER;CN=YaÃ«l:https://epanews.fr/profile/yael
ATTACH;FMTTYPE="image/jpeg":http://storage.ning.com/topology/rest/1.0/
 file/get/1663358191?profile=original
ATTENDEE;ROLE=REQ-PARTICIPANT;PARTSTAT=ACCEPTED;RSVP=TRUE;CN=YaÃ«l:htt
 ps://epanews.fr/profile/yael
END:VEVENT
END:VCALENDAR
