BEGIN:VCALENDAR
PRODID:NingEventWidget-v1
VERSION:2.0
METHOD:PUBLISH
BEGIN:VTIMEZONE
TZID:Europe/Paris
X-LIC-LOCATION:Europe/Paris
BEGIN:DAYLIGHT
TZOFFSETFROM:+0100
TZOFFSETTO:+0200
TZNAME:CEST
DTSTART:19700329T020000
RRULE:FREQ=YEARLY;BYMONTH=3;BYDAY=-1SU
END:DAYLIGHT
BEGIN:STANDARD
TZOFFSETFROM:+0200
TZOFFSETTO:+0100
TZNAME:CET
DTSTART:19701025T030000
RRULE:FREQ=YEARLY;BYMONTH=10;BYDAY=-1SU
END:STANDARD
END:VTIMEZONE
BEGIN:VEVENT
UID:2485226:Event:178463
DTSTAMP:20260426T005651Z
SUMMARY:Belle année 2011 en musiques
DESCRIPTION:\" Voyages au coeur du Vivant \"\n \nMusiques et Macro-Ph
 otographies 2010\nde et par Pascale Scarabin\nsur Youtube :\nwww.youtu
 be.com/watch?v=XRpwRF4KpN8\n \nChanteuse soliste, Technicienne de la 
 Voix, Coach-Vocal\ninstallée professionnellement vers Montpellier (34
 ).\n\nPour plus d'information, aller sur https://epanews.fr/events/bel
 le-annee-2011-en-musiques
DTSTART;TZID=Europe/Paris:20110103T180000
DTEND;TZID=Europe/Paris:20110103T190000
CATEGORIES:34
LOCATION:Montpellier
WEBSITE:http://www.youtube.com/watch?v=XRpwRF4KpN8
URL:http://www.youtube.com/watch?v=XRpwRF4KpN8
CONTACT:
ORGANIZER;CN="Scarabin Pascale":https://epanews.fr/profile/ScarabinPas
 cale
ATTACH;FMTTYPE="image/jpeg":http://storage.ning.com/topology/rest/1.0/
 file/get/1662373674?profile=original
ATTENDEE;ROLE=REQ-PARTICIPANT;PARTSTAT=ACCEPTED;RSVP=TRUE;CN="Scarabin
  Pascale":https://epanews.fr/profile/ScarabinPascale
END:VEVENT
END:VCALENDAR
