BEGIN:VCALENDAR
PRODID:NingEventWidget-v1
VERSION:2.0
METHOD:PUBLISH
BEGIN:VTIMEZONE
TZID:Europe/Paris
X-LIC-LOCATION:Europe/Paris
BEGIN:DAYLIGHT
TZOFFSETFROM:+0100
TZOFFSETTO:+0200
TZNAME:CEST
DTSTART:19700329T020000
RRULE:FREQ=YEARLY;BYMONTH=3;BYDAY=-1SU
END:DAYLIGHT
BEGIN:STANDARD
TZOFFSETFROM:+0200
TZOFFSETTO:+0100
TZNAME:CET
DTSTART:19701025T030000
RRULE:FREQ=YEARLY;BYMONTH=10;BYDAY=-1SU
END:STANDARD
END:VTIMEZONE
BEGIN:VEVENT
UID:2485226:Event:1172025
DTSTAMP:20260419T200749Z
SUMMARY:baume parfum au Jasmin
DESCRIPTION: \nVenez apprendre à confectionner votre parfum solide a
 u Jasmin\n(fleurs de l’Amour)\nSymbolique\nLe jasmin est considéré
  en Orient comme le symbole de l'amour et de la tentation féminine.\n
 Ainsi, le dieu indien de l'amour, Kâma, est supposé blesser ses vict
 imes avec des flèches auxquelles sont attachées des fleurs de jasmin
 .\nLe nom de cet arbuste vient de l'arabe yâsamîn, lui-même emprunt
 é au persan, et a donné naissance au prénom arabe féminin Yasmina 
 ou Yasmine.\nUne fleur reine de la parfumerie\nLe jasmin est avec la R
 ose l’une des fleurs reines de la parfumerie.\nSa culture se pratiqu
 e à Grasse depuis le milieu du XVII ème siècle.\nIl faut environ se
 pt millions de fleurs pour produire un kilo d'essence absolue de cette
  plante.\nElle est donc réservée aux parfums de luxe tels que le cé
 lèbre Parfum Joy de Jean Patou.\nSamedi 16 février 2013\n14 h à 16 
 h : reste des places\nFaverges 74210\nAtelier \"votre quotidien\" sur 
 le site des ateliers : 25 euros\nBulletin d’inscription sur demande\
 n \n\nPour plus d'information, aller sur https://epanews.fr/events/ba
 ume-parfum-au-jasmin
DTSTART;TZID=Europe/Paris:20130216T140000
DTEND;TZID=Europe/Paris:20130216T160000
CATEGORIES:74
LOCATION:74210 Faverges
WEBSITE:http://www.lavalsedesaromes.com
URL:http://www.lavalsedesaromes.com
CONTACT:0673014135
ORGANIZER;CN="Millot Sabrina":https://epanews.fr/profile/MillotSabrina
ATTACH;FMTTYPE="image/jpeg":http://storage.ning.com/topology/rest/1.0/
 file/get/1662754165?profile=original
ATTENDEE;ROLE=REQ-PARTICIPANT;PARTSTAT=ACCEPTED;RSVP=TRUE;CN="Millot S
 abrina":https://epanews.fr/profile/MillotSabrina
END:VEVENT
END:VCALENDAR
