BEGIN:VCALENDAR
PRODID:NingEventWidget-v1
VERSION:2.0
METHOD:PUBLISH
BEGIN:VTIMEZONE
TZID:Europe/Paris
X-LIC-LOCATION:Europe/Paris
BEGIN:DAYLIGHT
TZOFFSETFROM:+0100
TZOFFSETTO:+0200
TZNAME:CEST
DTSTART:19700329T020000
RRULE:FREQ=YEARLY;BYMONTH=3;BYDAY=-1SU
END:DAYLIGHT
BEGIN:STANDARD
TZOFFSETFROM:+0200
TZOFFSETTO:+0100
TZNAME:CET
DTSTART:19701025T030000
RRULE:FREQ=YEARLY;BYMONTH=10;BYDAY=-1SU
END:STANDARD
END:VTIMEZONE
BEGIN:VEVENT
UID:2485226:Event:1977735
DTSTAMP:20260421T062042Z
SUMMARY:Bar à tapas + concert de plein air à Lyon
DESCRIPTION:Retrouvons-nous pour boire un verre en terrasse, nous iron
 s ensuite assister à un petit concert de plein air.\nProfitons du sol
 eil et de l'ambiance estivale dans la joie et la bonne humeur !\nAmica
 lement.\n\nPour plus d'information, aller sur https://epanews.fr/event
 s/bar-tapas-concert-de-plein-air-lyon
DTSTART;TZID=Europe/Paris:20140723T190000
DTEND;TZID=Europe/Paris:20140723T220000
CATEGORIES:69
LOCATION:Lyon centre
WEBSITE:http://www.petitpaume.com/etablissement/cafe-thomas.htm
URL:http://www.petitpaume.com/etablissement/cafe-thomas.htm
CONTACT:
ORGANIZER;CN=Irène:https://epanews.fr/profile/LEFAILLER
ATTACH;FMTTYPE="image/jpeg":http://storage.ning.com/topology/rest/1.0/
 file/get/1663177058?profile=original
ATTENDEE;ROLE=REQ-PARTICIPANT;PARTSTAT=ACCEPTED;RSVP=TRUE;CN=Séverine
 :https://epanews.fr/profile/Severine871
ATTENDEE;ROLE=REQ-PARTICIPANT;PARTSTAT=ACCEPTED;RSVP=TRUE;CN=timotei:h
 ttps://epanews.fr/profile/timotei
ATTENDEE;ROLE=REQ-PARTICIPANT;PARTSTAT=ACCEPTED;RSVP=TRUE;CN=fleurdevi
 e:https://epanews.fr/profile/fleurdevie477
ATTENDEE;ROLE=REQ-PARTICIPANT;PARTSTAT=ACCEPTED;RSVP=TRUE;CN="Maude LE
 YNAUD":https://epanews.fr/profile/Maude72
ATTENDEE;ROLE=REQ-PARTICIPANT;PARTSTAT=ACCEPTED;RSVP=TRUE;CN=magnetic:
 https://epanews.fr/profile/magnetic
ATTENDEE;ROLE=REQ-PARTICIPANT;PARTSTAT=ACCEPTED;RSVP=TRUE;CN=Irène:ht
 tps://epanews.fr/profile/LEFAILLER
ATTENDEE;ROLE=REQ-PARTICIPANT;PARTSTAT=TENTATIVE;RSVP=TRUE;CN=Laulaufo
 litude:https://epanews.fr/profile/Laulaufolitude
ATTENDEE;ROLE=REQ-PARTICIPANT;PARTSTAT=TENTATIVE;RSVP=TRUE;CN=Marielyn
 n:https://epanews.fr/profile/Marielynn
END:VEVENT
END:VCALENDAR
