BEGIN:VCALENDAR
PRODID:NingEventWidget-v1
VERSION:2.0
METHOD:PUBLISH
BEGIN:VTIMEZONE
TZID:Europe/Paris
X-LIC-LOCATION:Europe/Paris
BEGIN:DAYLIGHT
TZOFFSETFROM:+0100
TZOFFSETTO:+0200
TZNAME:CEST
DTSTART:19700329T020000
RRULE:FREQ=YEARLY;BYMONTH=3;BYDAY=-1SU
END:DAYLIGHT
BEGIN:STANDARD
TZOFFSETFROM:+0200
TZOFFSETTO:+0100
TZNAME:CET
DTSTART:19701025T030000
RRULE:FREQ=YEARLY;BYMONTH=10;BYDAY=-1SU
END:STANDARD
END:VTIMEZONE
BEGIN:VEVENT
UID:2485226:Event:2905562
DTSTAMP:20260424T171838Z
SUMMARY:Ballade Initiatique au coeur de Paris
DESCRIPTION:Vendredi 1Â er DÃ©cembreÂ Â  12Â h 30 /Â 16Â h 30Ballade i
 nitiatique au coeur de Paris,Â  parcours et activation duÂ fÃ©minin sa
 crÃ©.De laÂ  splendeur de laÂ  dÃ©esse de la Tour Eiffel Ã  la MajestÃ
 © de Notre Dame, accompagnÃ©e en trilogie par mÃ¨re Gaia UranciaRÃ©vÃ©
 ler, et porter enfin l'Â Ã©tendardÂ flamboyant de son fÃ©minin sacrÃ©.
 Participationballade 35 â‚¬ surÂ rÃ©servation uniquementÂ  0652047613\
 n\nPour plus d'information, aller sur https://epanews.fr/events/ballad
 e-initiatique-au-coeur-de-paris
DTSTART;TZID=Europe/Paris:20171201T123000
DTEND;TZID=Europe/Paris:20171201T163000
CATEGORIES:75
LOCATION:tour Eiffeil
WEBSITE:http://www.couleursdeveilinitiatique.com/
URL:http://www.couleursdeveilinitiatique.com/
CONTACT:0652047613
ORGANIZER;CN="Marilou coach d 'Ã©veil Ã©nergie":https://epanews.fr/pro
 file/Marilou
ATTACH;FMTTYPE="image/jpeg":http://storage.ning.com/topology/rest/1.0/
 file/get/1663702336?profile=original
ATTENDEE;ROLE=REQ-PARTICIPANT;PARTSTAT=ACCEPTED;RSVP=TRUE;CN="Marilou 
 coach d 'Ã©veil Ã©nergie":https://epanews.fr/profile/Marilou
END:VEVENT
END:VCALENDAR
