BEGIN:VCALENDAR
PRODID:NingEventWidget-v1
VERSION:2.0
METHOD:PUBLISH
BEGIN:VTIMEZONE
TZID:Europe/Paris
X-LIC-LOCATION:Europe/Paris
BEGIN:DAYLIGHT
TZOFFSETFROM:+0100
TZOFFSETTO:+0200
TZNAME:CEST
DTSTART:19700329T020000
RRULE:FREQ=YEARLY;BYMONTH=3;BYDAY=-1SU
END:DAYLIGHT
BEGIN:STANDARD
TZOFFSETFROM:+0200
TZOFFSETTO:+0100
TZNAME:CET
DTSTART:19701025T030000
RRULE:FREQ=YEARLY;BYMONTH=10;BYDAY=-1SU
END:STANDARD
END:VTIMEZONE
BEGIN:VEVENT
UID:2485226:Event:3014703
DTSTAMP:20260420T110158Z
SUMMARY:bal trad
DESCRIPTION:avec Mc TARA\nformidable groupe de folk traditionnel et mu
 sique Irlandaise, nous amène au paradis des folkeu , pour un beau mom
 ent de partage et de découverte au son de la guitare, du violon, de l
 a contrebasse, de la harpe celtique, de la mandoline et du tin Whistle
 r !\nParticipations  gratuit \n\nPour plus d'information, aller sur 
 https://epanews.fr/events/bal-trad-2
DTSTART;TZID=Europe/Paris:20190413T210000
DTEND;TZID=Europe/Paris:20190413T234500
CATEGORIES:11
LOCATION:mjc d\" espéraza
WEBSITE:
URL:
CONTACT:
ORGANIZER;CN="Patrick Dhersin":https://epanews.fr/profile/PatrickDhers
 in
ATTACH;FMTTYPE="image/jpeg":
ATTENDEE;ROLE=REQ-PARTICIPANT;PARTSTAT=ACCEPTED;RSVP=TRUE;CN="Patrick 
 Dhersin":https://epanews.fr/profile/PatrickDhersin
END:VEVENT
END:VCALENDAR
