BEGIN:VCALENDAR
PRODID:NingEventWidget-v1
VERSION:2.0
METHOD:PUBLISH
BEGIN:VTIMEZONE
TZID:Europe/Paris
X-LIC-LOCATION:Europe/Paris
BEGIN:DAYLIGHT
TZOFFSETFROM:+0100
TZOFFSETTO:+0200
TZNAME:CEST
DTSTART:19700329T020000
RRULE:FREQ=YEARLY;BYMONTH=3;BYDAY=-1SU
END:DAYLIGHT
BEGIN:STANDARD
TZOFFSETFROM:+0200
TZOFFSETTO:+0100
TZNAME:CET
DTSTART:19701025T030000
RRULE:FREQ=YEARLY;BYMONTH=10;BYDAY=-1SU
END:STANDARD
END:VTIMEZONE
BEGIN:VEVENT
UID:2485226:Event:2859022
DTSTAMP:20260421T221622Z
SUMMARY:Bain sonore et olfactif à Paris
DESCRIPTION:Erik Nicollet & Prisca Bain Sonore & Olfactif© à Paris 
 au Centre Element le Samedi 7 octobre à 19HTarif : 40 euros Inscript
 ion en ligne : https://www.lecentre-element. com/ateliers/\nVous all
 ez vivre une expérience multi-sensorielle inédite: \"Sentir les Sons
  et Ecouter les Parfums\" tout dans la nature et orchestré selon des 
 schémas vibratoires bien établis pour maintenir l'équilibre. Ces co
 rrespondances entre les différents sens apportent par effet de réson
 ance, un équilibre global de l’être. Mais aussi, selon chaque per
 sonne, un équilibre des trajets énergétiques, des libérations émo
 tionnelles, physiques et mentales qui engendre un état d’Unité : H
 armonie…\nextrait vidéo du bain sonore et olfactif :https://www.fac
 ebook.com/erik.nicollet.1/videos/vb.100000470091102/1870652089627109/?
 type=2&theater\n\n\nPour plus d'information, aller sur https://epanews
 .fr/events/bain-sonore-et-olfactif-paris
DTSTART;TZID=Europe/Paris:20171007T190000
DTEND;TZID=Europe/Paris:20171007T210000
CATEGORIES:75
LOCATION:7 Rue des Guillemites, Paris 75004
WEBSITE:
URL:
CONTACT:
ORGANIZER;CN=unisson:https://epanews.fr/profile/unisson
ATTACH;FMTTYPE="image/jpeg":http://storage.ning.com/topology/rest/1.0/
 file/get/1663680903?profile=original
ATTENDEE;ROLE=REQ-PARTICIPANT;PARTSTAT=ACCEPTED;RSVP=TRUE;CN=unisson:h
 ttps://epanews.fr/profile/unisson
END:VEVENT
END:VCALENDAR
