BEGIN:VCALENDAR
PRODID:NingEventWidget-v1
VERSION:2.0
METHOD:PUBLISH
BEGIN:VTIMEZONE
TZID:Europe/Paris
X-LIC-LOCATION:Europe/Paris
BEGIN:DAYLIGHT
TZOFFSETFROM:+0100
TZOFFSETTO:+0200
TZNAME:CEST
DTSTART:19700329T020000
RRULE:FREQ=YEARLY;BYMONTH=3;BYDAY=-1SU
END:DAYLIGHT
BEGIN:STANDARD
TZOFFSETFROM:+0200
TZOFFSETTO:+0100
TZNAME:CET
DTSTART:19701025T030000
RRULE:FREQ=YEARLY;BYMONTH=10;BYDAY=-1SU
END:STANDARD
END:VTIMEZONE
BEGIN:VEVENT
UID:2485226:Event:854156
DTSTAMP:20260422T164911Z
SUMMARY:\"Bach l'oriental\"
DESCRIPTION:Â \nLa rencontre du violoncelle classique et des tablas in
 diens peut sembler improbable.\nPourtant, toutes les musiques ne puise
 nt-elles pas Ã  la mÃªme source?\nRappelons que l'interprÃ©tation du r
 Ã©pertoire baroque s'appuie sur cet Ã©lÃ©ment essentiel qu'est l'art d
 e l'improvisation.\nQuand au raga indien, il s'accomode fort bien des 
 procÃ©dÃ©s d'Ã©criture du contrepoint chers Ã  Bach: imitation, miroir
 , rÃ©trogradation, augmentation, diminution...\n\nCes deux univers mus
 icaux vont se rencontrer en trois Ã©tapes:\n\n1Ã¨re partie:\nJean-SÃ©b
 astien BACH: 3e suite pour violoncelle seul BWV 1009\n\n2e partie:\nim
 provisation dans le style indien\n\n3e partie:\npiÃ¨ces de Jean-SÃ©bas
 tien BACH adaptÃ©es pour violoncelle et tablas\n\navec Philippe Henry 
 (violoncelle) et Vincent CrÃ©pin (tablas)\n\nPAF: 12 â‚¬, rÃ©duit: 8 â
 ‚¬, gratuit pour les enfants.\nTÃ©l: 04 67 59 70 63 / 06 21 76 59 81\n
 \nPour plus d'information, aller sur https://epanews.fr/events/bach-l-
 oriental
DTSTART;TZID=Europe/Paris:20120623T203000
DTEND;TZID=Europe/Paris:20120623T220000
CATEGORIES:34
LOCATION:Ã©glise des Dominicains de Montpellier
WEBSITE:http://www.myspace.com/philippehenry
URL:http://www.myspace.com/philippehenry
CONTACT:04 67 59 70 63 / 06 21 76 59 81
ORGANIZER;CN=Henry:https://epanews.fr/profile/PhilippeHENRY
ATTACH;FMTTYPE="image/jpeg":http://storage.ning.com/topology/rest/1.0/
 file/get/1662621952?profile=original
ATTENDEE;ROLE=REQ-PARTICIPANT;PARTSTAT=ACCEPTED;RSVP=TRUE;CN=Henry:htt
 ps://epanews.fr/profile/PhilippeHENRY
END:VEVENT
END:VCALENDAR
