BEGIN:VCALENDAR
PRODID:NingEventWidget-v1
VERSION:2.0
METHOD:PUBLISH
BEGIN:VTIMEZONE
TZID:Europe/Paris
X-LIC-LOCATION:Europe/Paris
BEGIN:DAYLIGHT
TZOFFSETFROM:+0100
TZOFFSETTO:+0200
TZNAME:CEST
DTSTART:19700329T020000
RRULE:FREQ=YEARLY;BYMONTH=3;BYDAY=-1SU
END:DAYLIGHT
BEGIN:STANDARD
TZOFFSETFROM:+0200
TZOFFSETTO:+0100
TZNAME:CET
DTSTART:19701025T030000
RRULE:FREQ=YEARLY;BYMONTH=10;BYDAY=-1SU
END:STANDARD
END:VTIMEZONE
BEGIN:VEVENT
UID:2485226:Event:1755766
DTSTAMP:20260421T053009Z
SUMMARY:Ayurvéda Ancestrale à Montpellier et Paulhan le 6 au 9 févr
 ier 2014
DESCRIPTION:1402%20Conf%C3%A9renceAtelierYoga%20.pdf\n\nPour plus d'in
 formation, aller sur https://epanews.fr/events/ayurv-da-ancestrale-mon
 tpellier-et-paulhan-le-6-au-9-f-vrier-2014
DTSTART;TZID=Europe/Paris:20140206T180000
DTEND;TZID=Europe/Paris:20140209T070000
CATEGORIES:34
LOCATION:Salle de Théâtre
WEBSITE:
URL:
CONTACT:0604196268
ORGANIZER;CN="Association  Pomme Pays":https://epanews.fr/profile/Asso
 ciationPommePays
ATTACH;FMTTYPE="image/jpeg":
ATTENDEE;ROLE=REQ-PARTICIPANT;PARTSTAT=ACCEPTED;RSVP=TRUE;CN="Associat
 ion  Pomme Pays":https://epanews.fr/profile/AssociationPommePays
END:VEVENT
END:VCALENDAR
