BEGIN:VCALENDAR
PRODID:NingEventWidget-v1
VERSION:2.0
METHOD:PUBLISH
BEGIN:VTIMEZONE
TZID:Europe/Paris
X-LIC-LOCATION:Europe/Paris
BEGIN:DAYLIGHT
TZOFFSETFROM:+0100
TZOFFSETTO:+0200
TZNAME:CEST
DTSTART:19700329T020000
RRULE:FREQ=YEARLY;BYMONTH=3;BYDAY=-1SU
END:DAYLIGHT
BEGIN:STANDARD
TZOFFSETFROM:+0200
TZOFFSETTO:+0100
TZNAME:CET
DTSTART:19701025T030000
RRULE:FREQ=YEARLY;BYMONTH=10;BYDAY=-1SU
END:STANDARD
END:VTIMEZONE
BEGIN:VEVENT
UID:2485226:Event:2733662
DTSTAMP:20260424T212455Z
SUMMARY:awakening the dancer
DESCRIPTION: \nChères Danseuses et Danseurs de la Vie,\nc’est avec
  Joie que je vous annonce cette série de 4 Ateliers d’Explorations 
 ,  qui sont une bonne manière d’aller plus loin dans la pratique d
 e la Danse Médecine. Je vous laisse découvrir ci dessous les dates e
 t les voyages …\nÀ très bientôt sur le ‘Dance-Floor’ … \nC
 yrill\n \n\nDimanche 27 Novembre: Pratique de base de la Danse Médec
 ine : «AWAKENING THE DANCER »  Pratique de base de la Danse Médec
 ine :\n\n\n«réveiller notre danse, en redonnant, partie par partie 
 notre corps à ce danseur qui vit au cœur de nos cellules».Cette foi
 s-ci nous explorerons de manière intense ce réveil de notre danse de
 puis notre monde intérieur jusqu’à notre monde extérieur»\n\n  
         2-Samedi 7 Janvier : «EAUX & FEUX» \n          3-S
 amedi 25  Février : «RÉPÉTITIONS» \n          4-Samedi 22 
 juillet : «EN-SEMBLE»\n\nPour plus d'information, aller sur https://
 epanews.fr/events/awakening-the-dancer
DTSTART;TZID=Europe/Paris:20161127T150000
DTEND;TZID=Europe/Paris:20161127T193000
CATEGORIES:75
LOCATION:Studio one step (paris)
WEBSITE:http://www.justdancewithlife.com/event/a-d-ex-1/
URL:http://www.justdancewithlife.com/event/a-d-ex-1/
CONTACT:
ORGANIZER;CN="Cyrill Chantereau":https://epanews.fr/profile/CyrillChan
 tereau
ATTACH;FMTTYPE="image/jpeg":http://storage.ning.com/topology/rest/1.0/
 file/get/1663618651?profile=original
ATTENDEE;ROLE=REQ-PARTICIPANT;PARTSTAT=ACCEPTED;RSVP=TRUE;CN="Cyrill C
 hantereau":https://epanews.fr/profile/CyrillChantereau
END:VEVENT
END:VCALENDAR
