BEGIN:VCALENDAR
PRODID:NingEventWidget-v1
VERSION:2.0
METHOD:PUBLISH
BEGIN:VTIMEZONE
TZID:Europe/Paris
X-LIC-LOCATION:Europe/Paris
BEGIN:DAYLIGHT
TZOFFSETFROM:+0100
TZOFFSETTO:+0200
TZNAME:CEST
DTSTART:19700329T020000
RRULE:FREQ=YEARLY;BYMONTH=3;BYDAY=-1SU
END:DAYLIGHT
BEGIN:STANDARD
TZOFFSETFROM:+0200
TZOFFSETTO:+0100
TZNAME:CET
DTSTART:19701025T030000
RRULE:FREQ=YEARLY;BYMONTH=10;BYDAY=-1SU
END:STANDARD
END:VTIMEZONE
BEGIN:VEVENT
UID:2485226:Event:2619508
DTSTAMP:20260422T140619Z
SUMMARY:Avec PLANET'AIIRE : Conférence Stéphane ALLIX - LE TEST une 
 expérience inouïe !
DESCRIPTION:LA PREUVE DE LA VIE APRES LA VIE ?   suite à la mort de
  son père, il place des objets dans son cercueil, en secret, il a int
 errogé des médiums qui disent communiquer avec les morts... C'est le
  TEST !  Avec Stéphane ALLIX  , célèbre journaliste, fondateur d
 e l'INREES, auteur de livres sur la communication avec les morts.\n\nP
 our plus d'information, aller sur https://epanews.fr/events/avec-plane
 t-aiire-conf-rence-st-phane-allix-le-test-une-exp
DTSTART;TZID=Europe/Paris:20160407T200000
DTEND;TZID=Europe/Paris:20160407T220000
CATEGORIES:26
LOCATION:Salle Charles Michels, 26100 Romans sur Isère
WEBSITE:
URL:
CONTACT:
ORGANIZER;CN="Association Planet'aiire":https://epanews.fr/profile/Ass
 ociationPlanetaiire
ATTACH;FMTTYPE="image/jpeg":http://storage.ning.com/topology/rest/1.0/
 file/get/1663553388?profile=original
ATTENDEE;ROLE=REQ-PARTICIPANT;PARTSTAT=ACCEPTED;RSVP=TRUE;CN="Associat
 ion Planet'aiire":https://epanews.fr/profile/AssociationPlanetaiire
END:VEVENT
END:VCALENDAR
