BEGIN:VCALENDAR
PRODID:NingEventWidget-v1
VERSION:2.0
METHOD:PUBLISH
BEGIN:VTIMEZONE
TZID:Europe/Paris
X-LIC-LOCATION:Europe/Paris
BEGIN:DAYLIGHT
TZOFFSETFROM:+0100
TZOFFSETTO:+0200
TZNAME:CEST
DTSTART:19700329T020000
RRULE:FREQ=YEARLY;BYMONTH=3;BYDAY=-1SU
END:DAYLIGHT
BEGIN:STANDARD
TZOFFSETFROM:+0200
TZOFFSETTO:+0100
TZNAME:CET
DTSTART:19701025T030000
RRULE:FREQ=YEARLY;BYMONTH=10;BYDAY=-1SU
END:STANDARD
END:VTIMEZONE
BEGIN:VEVENT
UID:2485226:Event:2318062
DTSTAMP:20260422T111253Z
SUMMARY:avec Bhaktashanti venez mettre l’amour en action.
DESCRIPTION:http://www.divine-attitude.org/7_juin_2015.pdf\ndarshan, m
 éditation, soins\nPARIS : 7 JUIN 2015 : RENCONTREZ LA PAIX DU COEUR  
 Pour établir la paix mondiale à partir de sa paix intérieure, avec 
 Bhaktashanti venez mettre l’Amour en action.\nA l'occasion de la mé
 ditation, ensemble nous éléverons nos intentions communes pour oeuvr
 er à la paix mondiale.\nGratuit - accès libre - voir programme et li
 eu sur le lien : http://www.divine-attitude.org/7_juin_2015.pdf\n\nPou
 r plus d'information, aller sur https://epanews.fr/events/avec-bhaktas
 hanti-venez-mettre-l-amour-en-action
DTSTART;TZID=Europe/Paris:20150607T143000
DTEND;TZID=Europe/Paris:20150607T190000
CATEGORIES:75
LOCATION:63 quater, rue Riquet 75018 Paris : http://equipement.paris.f
 r/jardins-rosa-luxemburg-17580
WEBSITE:http://www.divine-attitude.org/7_juin_2015.pdf
URL:http://www.divine-attitude.org/7_juin_2015.pdf
CONTACT:0660119982
ORGANIZER;CN=Bhaktashanti:https://epanews.fr/profile/BrunoBerthelot
ATTACH;FMTTYPE="image/jpeg":http://storage.ning.com/topology/rest/1.0/
 file/get/1663405096?profile=original
ATTENDEE;ROLE=REQ-PARTICIPANT;PARTSTAT=ACCEPTED;RSVP=TRUE;CN=Bhaktasha
 nti:https://epanews.fr/profile/BrunoBerthelot
ATTENDEE;ROLE=REQ-PARTICIPANT;PARTSTAT=TENTATIVE;RSVP=TRUE;CN=Tara:htt
 ps://epanews.fr/profile/Tara11
END:VEVENT
END:VCALENDAR
