BEGIN:VCALENDAR
PRODID:NingEventWidget-v1
VERSION:2.0
METHOD:PUBLISH
BEGIN:VTIMEZONE
TZID:Europe/Paris
X-LIC-LOCATION:Europe/Paris
BEGIN:DAYLIGHT
TZOFFSETFROM:+0100
TZOFFSETTO:+0200
TZNAME:CEST
DTSTART:19700329T020000
RRULE:FREQ=YEARLY;BYMONTH=3;BYDAY=-1SU
END:DAYLIGHT
BEGIN:STANDARD
TZOFFSETFROM:+0200
TZOFFSETTO:+0100
TZNAME:CET
DTSTART:19701025T030000
RRULE:FREQ=YEARLY;BYMONTH=10;BYDAY=-1SU
END:STANDARD
END:VTIMEZONE
BEGIN:VEVENT
UID:2485226:Event:1684468
DTSTAMP:20260423T130139Z
SUMMARY:Avant-PremiÃ¨re Projection DÃ©bat Â« La SantÃ© dans lâ€™Assiet
 te Â» Ã  Montpellier
DESCRIPTION:\n\n\nLa DÃ©lÃ©gation de lâ€™Association VÃ©gÃ©tarienne de
  France du 34Â a le plaisir de vous convier Ã  lâ€™Avant-PremiÃ¨re Pro
 jection du Film Documentaire Â« La SantÃ© dans lâ€™Assiette Â» Ã  Mont
 pellier jeudi 19 DÃ©cembre Ã  19h45 au CinÃ©ma Diagonal Capitole co-or
 ganisÃ© en collaboration avec Jupiter Programmation et le CinÃ©ma Diag
 onal suivi d'un Ã©change avec des Intervenants locaux spÃ©cialisÃ©s en
  nutrition VÃ©gÃ©talienne et en production biologique:\n\nEdith GOHIER
  HygiÃ©ninutritionniste VÃ©gÃ©Crudivore installÃ©e dans le 34\nÂ \nEva
  Claire PASQUIER Formatrice en Nutrition VÃ©gÃ©talienne sans Gluten in
 stallÃ©e dans le 34\nYezid ALLAYA Producteur et Distributeur de Panier
 s BIO installÃ© dans le 34\nUn film qui peut sauver votre vie Â«A Film
  That Can Save Your Life.Â» Roger Ebert, Chicago Sun-Times\nDescriptio
 n\nLe film \"La santÃ© dans l'assiette\" examine l'hypothÃ¨se selon la
 quelle le renoncement aux produits d'origine animale et industrielleme
 nt transformÃ©s permettrait de soigner - voire complÃ¨tement guÃ©rir, 
 la quasi-totalitÃ© des â€œmaladies de sociÃ©tÃ©\".\nAujourd'hui en Fra
 nce 15% de la population adulte est obÃ¨se. 60% de la population franÃ
 §aise a passÃ© le seuil Ã  partir duquel il ne faut pas grossir pour Ã
 ©viter l'obÃ©sitÃ© et les autres maladies de sociÃ©tÃ©. Au cours des 1
 5 derniÃ¨res annÃ©es, l'obÃ©sitÃ© a augmentÃ© de 75%. (obEpi-Roche 200
 9)\nÂ \nLes maladies cardiovasculaires, quant Ã  elles, reprÃ©sentent 
 la 2e cause de mortalitÃ© dans l'hexagone.\nEt chaque annÃ©e plus de 1
 5 000 pontages coronariens sont exÃ©cutÃ©s...\nLe film suit, en guise 
 de fil directeur, l'itinÃ©raire personnel du Dr. Colin Campbell, bioch
 imiste nutritionnel Ã  l'UniversitÃ© Cornell, et du Dr. Caldwell Essel
 styn, ancien chirurgien de renom Ã  la cÃ©lÃ¨bre Cleveland Clinic.\nÂ«
 Que ta nourriture soit ta mÃ©decineÂ» Hippocrate Pour clÃ´turer la soi
 rÃ©e ensemble et vous faire dÃ©couvrir le vÃ©gÃ©talisme, le Collectif 
 Food Not Bombs de Montpellier aura le plaisir de vous offrir et vous f
 aire partager ensemble un Buffet vÃ©gÃ©talien.\nMerci de diffuser larg
 ement lâ€™info vers vos rÃ©seaux\nAssociation VÃ©gÃ©tarienne de France
  34 Nicola COPPA 07 87 82 38 79\n\n\n\n\nÂ \n\n\n\nPour plus d'informa
 tion, aller sur https://epanews.fr/events/avant-premi-re-projection-d-
 bat-la-sant-dans-l-assiette
DTSTART;TZID=Europe/Paris:20131219T194500
DTEND;TZID=Europe/Paris:20131219T223000
CATEGORIES:34
LOCATION:CinÃ©ma Diagonal
WEBSITE:http://blogs.vegetarisme.fr/montpellier/2013/12/05/avant-premi
 ere-projection-debat-%c2%ab-la-sante-dans-l%e2%80%99assiette-%c2%bb-du
 -19-decembre-2013-a-19h45-au-cinema-au-diagonal-a-montpellier/
URL:http://blogs.vegetarisme.fr/montpellier/2013/12/05/avant-premiere-
 projection-debat-%c2%ab-la-sante-dans-l%e2%80%99assiette-%c2%bb-du-19-
 decembre-2013-a-19h45-au-cinema-au-diagonal-a-montpellier/
CONTACT:07 87 82 38 79
ORGANIZER;CN="Nicola Coppa":https://epanews.fr/profile/NicolaCoppa
ATTACH;FMTTYPE="image/jpeg":
ATTENDEE;ROLE=REQ-PARTICIPANT;PARTSTAT=ACCEPTED;RSVP=TRUE;CN="Nicola C
 oppa":https://epanews.fr/profile/NicolaCoppa
END:VEVENT
END:VCALENDAR
