BEGIN:VCALENDAR
PRODID:NingEventWidget-v1
VERSION:2.0
METHOD:PUBLISH
BEGIN:VTIMEZONE
TZID:Europe/Paris
X-LIC-LOCATION:Europe/Paris
BEGIN:DAYLIGHT
TZOFFSETFROM:+0100
TZOFFSETTO:+0200
TZNAME:CEST
DTSTART:19700329T020000
RRULE:FREQ=YEARLY;BYMONTH=3;BYDAY=-1SU
END:DAYLIGHT
BEGIN:STANDARD
TZOFFSETFROM:+0200
TZOFFSETTO:+0100
TZNAME:CET
DTSTART:19701025T030000
RRULE:FREQ=YEARLY;BYMONTH=10;BYDAY=-1SU
END:STANDARD
END:VTIMEZONE
BEGIN:VEVENT
UID:2485226:Event:961138
DTSTAMP:20260421T044454Z
SUMMARY:Modification demandée
DESCRIPTION:Destiné à toutes les femmes en interrogation sur ce pass
 age qu'est la ménopause, que ce soit pour s'y préparer, pour la vivr
 e ou pour la transformer en un véritable potentiel féminin,\nje prop
 ose une soirée sur le thème : Mon corps de femme se transforme, que 
 se passe-t-il ?\n\nPour plus d'information, aller sur https://epanews.
 fr/events/autour-de-la-menopause-la-femme
DTSTART;TZID=Europe/Paris:20121009T080000
DTEND;TZID=Europe/Paris:20121009T103000
CATEGORIES:69
LOCATION:L'ATELIER
WEBSITE:http://www.brin-de-soi.fr
URL:http://www.brin-de-soi.fr
CONTACT:06 83 53 27 47
ORGANIZER;CN="Anne Marie DELORME":https://epanews.fr/profile/AnneMarie
 DELORME
ATTACH;FMTTYPE="image/jpeg":http://storage.ning.com/topology/rest/1.0/
 file/get/1662672260?profile=original
ATTENDEE;ROLE=REQ-PARTICIPANT;PARTSTAT=ACCEPTED;RSVP=TRUE;CN="Anne Mar
 ie DELORME":https://epanews.fr/profile/AnneMarieDELORME
END:VEVENT
END:VCALENDAR
