BEGIN:VCALENDAR
PRODID:NingEventWidget-v1
VERSION:2.0
METHOD:PUBLISH
BEGIN:VTIMEZONE
TZID:Europe/Paris
X-LIC-LOCATION:Europe/Paris
BEGIN:DAYLIGHT
TZOFFSETFROM:+0100
TZOFFSETTO:+0200
TZNAME:CEST
DTSTART:19700329T020000
RRULE:FREQ=YEARLY;BYMONTH=3;BYDAY=-1SU
END:DAYLIGHT
BEGIN:STANDARD
TZOFFSETFROM:+0200
TZOFFSETTO:+0100
TZNAME:CET
DTSTART:19701025T030000
RRULE:FREQ=YEARLY;BYMONTH=10;BYDAY=-1SU
END:STANDARD
END:VTIMEZONE
BEGIN:VEVENT
UID:2485226:Event:3055578
DTSTAMP:20260423T170357Z
SUMMARY:Initiation rÃ©flexologie plantaire
DESCRIPTION:Cette initiation Ã  la rÃ©flexologie plantaire permettra t
 out d'abord de s'habituer au massage \"en chenille\" propre Ã  la rÃ©f
 lexologie.\nCette technique manuelle permet d'agir sur les zones rÃ©fl
 exes du pied.\nChaque partie de l'organisme est reprÃ©sentÃ©e Ã  un en
 droit dÃ©terminÃ© sur ou sous le pied. Ainsi tous les grands systÃ¨mes
  physiologiques, respiratoire, digestif, circulatoire, urinaire etc...
 ont leur projection prÃ©cise.\nLe massage en chenille de ces zones per
 met de dÃ©congestionner et permet de maintenir l'irrigation et le bon 
 fonctionnement des organes.\nLors de cette journÃ©e d'initiation, nous
  pratiquerons le massage de dÃ©tente prÃ©alable et puis le toucher rÃ©
 flexe sur les premiÃ¨res parties Ã  considÃ©rer dans une sÃ©ance de rÃ
 ©flexologie : les zones circulatoires et lymphatiques, ainsi que le di
 aphragme et la colonne vertÃ©brale, marquant nos deux axes.\nDes stage
 s d'approfondissement permettront de repÃ©rer et explorer les grands s
 ystÃ¨mes prÃ©citÃ©s.\n50 â‚¬ la journÃ©e repas tirÃ© du sac\nRenseigne
 ments et inscriptions Cathy 06 84 13 23 39\n\nPour plus d'information,
  aller sur https://epanews.fr/events/au-jardin-du-corps
DTSTART;TZID=Europe/Paris:20200322T093000
DTEND;TZID=Europe/Paris:20200322T170000
CATEGORIES:30, 34, 84
LOCATION:La voÃ»te aux oiseaux Donnat/Sabran 30200
WEBSITE:https://www.google.fr/maps/place/La+Vo%C3%BBte+aux+Oiseaux/@44
 .1716834,4.5471597,17z/data=!3m1!4b1!4m5!3m4!1s0x12b5afee81b2925d:0x5d
 2711ef0ef2c882!8m2!3d44.1716796!4d4.5493484
URL:https://www.google.fr/maps/place/La+Vo%C3%BBte+aux+Oiseaux/@44.171
 6834,4.5471597,17z/data=!3m1!4b1!4m5!3m4!1s0x12b5afee81b2925d:0x5d2711
 ef0ef2c882!8m2!3d44.1716796!4d4.5493484
CONTACT:06 84 13 23 39
ORGANIZER;CN="Au Jardin du Corps":https://epanews.fr/profile/AuJardind
 uCorps
ATTACH;FMTTYPE="image/jpeg":https://storage.ning.com/topology/rest/1.0
 /file/get/3871204071?profile=original
ATTENDEE;ROLE=REQ-PARTICIPANT;PARTSTAT=ACCEPTED;RSVP=TRUE;CN=MylÃ¨ne26
 :https://epanews.fr/profile/123soleil227
ATTENDEE;ROLE=REQ-PARTICIPANT;PARTSTAT=ACCEPTED;RSVP=TRUE;CN="Au Jardi
 n du Corps":https://epanews.fr/profile/AuJardinduCorps
END:VEVENT
END:VCALENDAR
