BEGIN:VCALENDAR
PRODID:NingEventWidget-v1
VERSION:2.0
METHOD:PUBLISH
BEGIN:VTIMEZONE
TZID:Europe/Paris
X-LIC-LOCATION:Europe/Paris
BEGIN:DAYLIGHT
TZOFFSETFROM:+0100
TZOFFSETTO:+0200
TZNAME:CEST
DTSTART:19700329T020000
RRULE:FREQ=YEARLY;BYMONTH=3;BYDAY=-1SU
END:DAYLIGHT
BEGIN:STANDARD
TZOFFSETFROM:+0200
TZOFFSETTO:+0100
TZNAME:CET
DTSTART:19701025T030000
RRULE:FREQ=YEARLY;BYMONTH=10;BYDAY=-1SU
END:STANDARD
END:VTIMEZONE
BEGIN:VEVENT
UID:2485226:Event:3057400
DTSTAMP:20260423T165915Z
SUMMARY:JournÃ©e mÃ©ditation et pratiques de pleine conscience
DESCRIPTION:Cette journÃ©e sera l'occasion de pratiquer ensemble la mÃ
 ©ditation assise et la mÃ©ditation marchÃ©e ainsi que des exercices co
 rporels et une relaxation en pleine conscience. Nous accompagnerons ce
 rtaines parties par la lecture de textes ou par le visionnage d'une vi
 dÃ©o.\nLe repas sera en partie silencieux. Chacun amÃ¨nera un plat vÃ©
 gÃ©tarien Ã  partager.\nLe prix pour la journÃ©es est de 10â‚¬ et grat
 uit pour les enfants.\nRenseignements et inscriptions 06 84 13 23 39\n
 \nPour plus d'information, aller sur https://epanews.fr/events/au-jard
 in-du-corps-1
DTSTART;TZID=Europe/Paris:20200405T093000
DTEND;TZID=Europe/Paris:20200405T160000
CATEGORIES:30, 84
LOCATION:La voÃ»te aux oiseaux Donnat/Sabran 30200
WEBSITE:https://www.google.fr/maps/place/La+Vo%C3%BBte+aux+Oiseaux/@44
 .1716834,4.5471597,17z/data=!3m1!4b1!4m5!3m4!1s0x12b5afee81b2925d:0x5d
 2711ef0ef2c882!8m2!3d44.1716796!4d4.5493484
URL:https://www.google.fr/maps/place/La+Vo%C3%BBte+aux+Oiseaux/@44.171
 6834,4.5471597,17z/data=!3m1!4b1!4m5!3m4!1s0x12b5afee81b2925d:0x5d2711
 ef0ef2c882!8m2!3d44.1716796!4d4.5493484
CONTACT:06 84 13 23 39
ORGANIZER;CN="Au Jardin du Corps":https://epanews.fr/profile/AuJardind
 uCorps
ATTACH;FMTTYPE="image/jpeg":https://storage.ning.com/topology/rest/1.0
 /file/get/4003003600?profile=original
ATTENDEE;ROLE=REQ-PARTICIPANT;PARTSTAT=ACCEPTED;RSVP=TRUE;CN="Au Jardi
 n du Corps":https://epanews.fr/profile/AuJardinduCorps
END:VEVENT
END:VCALENDAR
