BEGIN:VCALENDAR
PRODID:NingEventWidget-v1
VERSION:2.0
METHOD:PUBLISH
BEGIN:VTIMEZONE
TZID:Europe/Paris
X-LIC-LOCATION:Europe/Paris
BEGIN:DAYLIGHT
TZOFFSETFROM:+0100
TZOFFSETTO:+0200
TZNAME:CEST
DTSTART:19700329T020000
RRULE:FREQ=YEARLY;BYMONTH=3;BYDAY=-1SU
END:DAYLIGHT
BEGIN:STANDARD
TZOFFSETFROM:+0200
TZOFFSETTO:+0100
TZNAME:CET
DTSTART:19701025T030000
RRULE:FREQ=YEARLY;BYMONTH=10;BYDAY=-1SU
END:STANDARD
END:VTIMEZONE
BEGIN:VEVENT
UID:2485226:Event:1088776
DTSTAMP:20260422T004221Z
SUMMARY:Modification demandée
DESCRIPTION:==============================================\nTOULOUSE 3
 1700\nLE 18 JANVIER 2013 de 18 h 00 -20 h 00\nMEGA CGR TOULOUSE- BLAGN
 AC\nZAC DU GRAND NOBLE BLAGNAC 31700\nAU CINEMA CGR DE BLAGNAC Salle 1
 0\nDEBOWSKA PRODUCTIONS présente :\nFILM :\nAu-delà de l’amour, 
 mon amour\nEn présence de :\nMontserrat Gascon et les acteurs du fil
 m :\nLaura Rucinska,\nPascal Bolantin\net Mathias Liebig.\nParticipat
 ion : 10 Euros\nRéservations : DEBOWSKA PRODUCTIONS Tél O4 68 69
  87 23\n\"http://www.debowska.fr\"\ncontact@debowska.fr\n\nPour plus d
 'information, aller sur https://epanews.fr/events/au-del0-de-l-amour-f
 ilm-a-blagnac
DTSTART;TZID=Europe/Paris:20130118T180000
DTEND;TZID=Europe/Paris:20130118T200000
CATEGORIES:31
LOCATION:CGR BLAGNAC
WEBSITE:
URL:
CONTACT:0468698723
ORGANIZER:DEBOWSKA
ATTACH;FMTTYPE="image/jpeg":
ATTENDEE;ROLE=REQ-PARTICIPANT;PARTSTAT=ACCEPTED;RSVP=TRUE;CN=MIR:https
 ://epanews.fr/profile/MIR282
END:VEVENT
END:VCALENDAR
