BEGIN:VCALENDAR
PRODID:NingEventWidget-v1
VERSION:2.0
METHOD:PUBLISH
BEGIN:VTIMEZONE
TZID:Europe/Paris
X-LIC-LOCATION:Europe/Paris
BEGIN:DAYLIGHT
TZOFFSETFROM:+0100
TZOFFSETTO:+0200
TZNAME:CEST
DTSTART:19700329T020000
RRULE:FREQ=YEARLY;BYMONTH=3;BYDAY=-1SU
END:DAYLIGHT
BEGIN:STANDARD
TZOFFSETFROM:+0200
TZOFFSETTO:+0100
TZNAME:CET
DTSTART:19701025T030000
RRULE:FREQ=YEARLY;BYMONTH=10;BYDAY=-1SU
END:STANDARD
END:VTIMEZONE
BEGIN:VEVENT
UID:2485226:Event:1354863
DTSTAMP:20260421T141538Z
SUMMARY:Attirer et accueillir l'abondance dans sa vie - Loi d'Attracti
 on - Création délibérée
DESCRIPTION:Stage du Solstice d'Eté, pour attirer et accueillir l'abo
 ndance dans sa vie, grâce à la Loi d'Attraction et de la création d
 élibérée.\nFlyer ci-dessous (programme - tarif - bulletin d'inscrip
 tion)\nSTAGE SOLSTICE ETE\n\nPour plus d'information, aller sur https:
 //epanews.fr/events/attirer-et-accueillir-l-abondance-dans-sa-vie-loi-
 d-attraction-cr
DTSTART;TZID=Europe/Paris:20130620T110000
DTEND;TZID=Europe/Paris:20130623T150000
CATEGORIES:tous
LOCATION:Saint Vincent les Forts - Alpes de Haute Provence
WEBSITE:http://www.seressourcer-oprayet.com
URL:http://www.seressourcer-oprayet.com
CONTACT:+33 (0)492855780
ORGANIZER;CN=Nelly:https://epanews.fr/profile/Nelly
ATTACH;FMTTYPE="image/jpeg":http://storage.ning.com/topology/rest/1.0/
 file/get/1662835273?profile=original
ATTENDEE;ROLE=REQ-PARTICIPANT;PARTSTAT=ACCEPTED;RSVP=TRUE;CN=Nelly:htt
 ps://epanews.fr/profile/Nelly
END:VEVENT
END:VCALENDAR
