BEGIN:VCALENDAR
PRODID:NingEventWidget-v1
VERSION:2.0
METHOD:PUBLISH
BEGIN:VTIMEZONE
TZID:Europe/Paris
X-LIC-LOCATION:Europe/Paris
BEGIN:DAYLIGHT
TZOFFSETFROM:+0100
TZOFFSETTO:+0200
TZNAME:CEST
DTSTART:19700329T020000
RRULE:FREQ=YEARLY;BYMONTH=3;BYDAY=-1SU
END:DAYLIGHT
BEGIN:STANDARD
TZOFFSETFROM:+0200
TZOFFSETTO:+0100
TZNAME:CET
DTSTART:19701025T030000
RRULE:FREQ=YEARLY;BYMONTH=10;BYDAY=-1SU
END:STANDARD
END:VTIMEZONE
BEGIN:VEVENT
UID:2485226:Event:1482879
DTSTAMP:20260423T190920Z
SUMMARY:Ateliers yoga et nature
DESCRIPTION:Atelier de pratiques internes,pour assouplir, tonifier ,re
 laxer ,au coeur de la nature.\nMarche facile ponctuée de pratiques is
 sue du yoga et qi gong à la montagnette , à l'abbaye de st michel de
  frigolet (5000 hectares d'espaces naturels à 15 km d'avignon)\n- RDV
  fixé devant entrée magasin de l'abbaye, grand parging gratuit.\n- N
 iveau :  pour tous , avec tenue confortable et baskets\n- Tarif : 25 
 euros /personne\n- 1 septembre 2013 , de 10h à 12h30 (prochaines date
 s :13 et 27 octobre,17 novembre 2013)\n- Contact : Denis Bournaud 06 6
 2 53 43 81 ou 04 90 90 56 77,  d.bournaud@gmail.com\n\nMerci de bien 
 préciser vos coordonnées pour inscription ferme.\n\n\nPour plus d'in
 formation, aller sur https://epanews.fr/events/ateliers-yoga-et-nature
DTSTART;TZID=Europe/Paris:20130901T100000
DTEND;TZID=Europe/Paris:20130901T123000
CATEGORIES:13
LOCATION:abbaye de st michel de frigolet
WEBSITE:
URL:
CONTACT:06 62 53 43 81
ORGANIZER:bournaud denis
ATTACH;FMTTYPE="image/jpeg":
ATTENDEE;ROLE=REQ-PARTICIPANT;PARTSTAT=ACCEPTED;RSVP=TRUE;CN=denis:htt
 ps://epanews.fr/profile/bournaud
END:VEVENT
END:VCALENDAR
