BEGIN:VCALENDAR
PRODID:NingEventWidget-v1
VERSION:2.0
METHOD:PUBLISH
BEGIN:VTIMEZONE
TZID:Europe/Paris
X-LIC-LOCATION:Europe/Paris
BEGIN:DAYLIGHT
TZOFFSETFROM:+0100
TZOFFSETTO:+0200
TZNAME:CEST
DTSTART:19700329T020000
RRULE:FREQ=YEARLY;BYMONTH=3;BYDAY=-1SU
END:DAYLIGHT
BEGIN:STANDARD
TZOFFSETFROM:+0200
TZOFFSETTO:+0100
TZNAME:CET
DTSTART:19701025T030000
RRULE:FREQ=YEARLY;BYMONTH=10;BYDAY=-1SU
END:STANDARD
END:VTIMEZONE
BEGIN:VEVENT
UID:2485226:Event:2103180
DTSTAMP:20260423T183907Z
SUMMARY:Ateliers Quantiques 21 Novembre
DESCRIPTION:Ateliers Quantiques\nVoulez-vous dĂ©couvrir une pratique q
 uantique de transformation ?\nVenez vivre un atelier renversant pour Ă
 ©voluer, voir se rĂ©aliser plus vite vos projets, vos dĂ©sirs et dĂ©pa
 sser vos blocages.\nQu'est-ce qu'un Soin Quantique de la MĂ©thode des 
 2 Points ?\nNous sommes tous co-crĂ©ateurs de ce que nous avons l'habi
 tude de nommer \"la rĂ©alitĂ©\".\nImaginez quâ€™en ouvrant une simple 
 porte vous puissiez vous relier au champ de tous les possibles, puiser
  dans les ressources infinies qui sont Ă  votre disposition afin de le
 s utiliser dans votre vie quotidienne, transformer les blocages et dif
 ficultĂ©s que vous rencontrez. Autrement-dit crĂ©er une nouvelle rĂ©al
 itĂ© dans votre vie.\nCette porte existe vĂ©ritablement, mais la plupa
 rt du temps, nos propres limitations nous empĂŞchent de lâ€™ouvrir.\nD
 ans les Espaces de GuĂ©rison Quantique, nous utilisons la vibration du
  cĹ“ur, la pure conscience et la porte s'ouvre, en toute simplicitĂ©.\
 nUn soinÂ MĂ©thode des 2 Points est un instrument puissant de transfor
 mation et d'Ă©volution qui nous donne lâ€™accĂ¨s direct Ă  ces Espaces
  Quantiques, ce Champ unifiĂ© oĂą toutes nos solutions existent dĂ©jĂ 
 .\nCâ€™est un soutien et un accĂ©lĂ©rateur pour manifester des changem
 ents dans toutes les dimensions de vieÂ  : couple/relations, santĂ©/bi
 en-ĂŞtre, finances, mission de vie/spiritualitĂ©, famille, vie profess
 ionnelleâ€¦\nPourquoi participer Ă  un atelier collectif ?\nVous allez
  bĂ©nĂ©ficier de l'Ă©nergie du groupe et de la rĂ©solution des problĂ©
 matiques de chaque participant. Nous sommes tous reliĂ©s, chaque perso
 nne recevant un soin guĂ©rit les autres membres du groupe. Le thĂ¨me n
 'a mĂŞme pas besoin d'ĂŞtre Ă©noncĂ© pour que le ThĂ©rapeute Ĺ“uvre et
  que chacun en profite. Et vous n'avez mĂŞme pas besoin d'y croire ou 
 d'y adhĂ©rer, l'information est transmise au Champ unifiĂ© et celui-ci
  agit.\nComment se dĂ©roule l'Atelier ?\n- Quelques points de repĂ¨re 
 sur les approches quantiques - MĂ©ditation guidĂ©e pour \"ouvrir les p
 ortes\" - DĂ©monstration en groupe complet - Soins Ă  chaque personne,
  en demi-groupe - Identification des applications possibles de la MĂ©t
 hode des 2 Points\nDate & Horaire : Vendredi 21 Novembre de 13h30 Ă  1
 6hÂ \nInscription par mail : accueil@divinecouleur.com Nombre de place
 s limitĂ©.\nAdresse : mĂ©tro Mairie de Clichy (adresse envoyĂ©e aprĂ¨s
  inscription). Participation : 30 â‚¬ par atelier\nCatherine ThĂ©rapeu
 te Ă©nergĂ©ticienne, Moon Mother Advance, passeuse dâ€™Ă˘mes,Â artiste
 . Praticienne enchantĂ©e etÂ passionnĂ©eÂ de la MĂ©thode Quantique des
  2 points 06 12 68 83 56 divinecouleur.com / accueil@divinecouleur.com
 \n\nPour plus d'information, aller sur https://epanews.fr/events/ateli
 ers-quantiques-de-novembre
DTSTART;TZID=Europe/Paris:20141121T133000
DTEND;TZID=Europe/Paris:20141121T160000
CATEGORIES:92
LOCATION:Clichy
WEBSITE:http://divinecouleur.com/ateliers-quantiques/
URL:http://divinecouleur.com/ateliers-quantiques/
CONTACT:06 12 68 83 56
ORGANIZER;CN="Divine Couleur":https://epanews.fr/profile/DivineCouleur
ATTACH;FMTTYPE="image/jpeg":http://storage.ning.com/topology/rest/1.0/
 file/get/1663243518?profile=original
ATTENDEE;ROLE=REQ-PARTICIPANT;PARTSTAT=ACCEPTED;RSVP=TRUE;CN="Divine C
 ouleur":https://epanews.fr/profile/DivineCouleur
END:VEVENT
END:VCALENDAR
