BEGIN:VCALENDAR
PRODID:NingEventWidget-v1
VERSION:2.0
METHOD:PUBLISH
BEGIN:VTIMEZONE
TZID:Europe/Paris
X-LIC-LOCATION:Europe/Paris
BEGIN:DAYLIGHT
TZOFFSETFROM:+0100
TZOFFSETTO:+0200
TZNAME:CEST
DTSTART:19700329T020000
RRULE:FREQ=YEARLY;BYMONTH=3;BYDAY=-1SU
END:DAYLIGHT
BEGIN:STANDARD
TZOFFSETFROM:+0200
TZOFFSETTO:+0100
TZNAME:CET
DTSTART:19701025T030000
RRULE:FREQ=YEARLY;BYMONTH=10;BYDAY=-1SU
END:STANDARD
END:VTIMEZONE
BEGIN:VEVENT
UID:2485226:Event:1712637
DTSTAMP:20260423T213535Z
SUMMARY:Ateliers pour Ados à Pérouges (01)
DESCRIPTION:Destiné aux Ados entre 14 et 18 ans.\nL'objectif est d'é
 changer en toute confidentialité, d'apprendre à gérer ses émotions
 , de prendre confiance en soi, d'apprivoiser sa respiration... avec l'
 EFT, la sophro, la Loi d'Attraction.\nTarif : 25 €\nMerci de confirm
 er par téléphone (places limitées)\n\nPour plus d'information, alle
 r sur https://epanews.fr/events/ateliers-pour-ados-p-rouges-01
DTSTART;TZID=Europe/Paris:20140115T150000
DTEND;TZID=Europe/Paris:20140115T173000
CATEGORIES:01
LOCATION:Pérouges
WEBSITE:http://www.eftetloidattraction.com
URL:http://www.eftetloidattraction.com
CONTACT:0662300705
ORGANIZER;CN="Florence VASTRA":https://epanews.fr/profile/FlorenceVAST
 RA
ATTACH;FMTTYPE="image/jpeg":http://storage.ning.com/topology/rest/1.0/
 file/get/1663016463?profile=original
ATTENDEE;ROLE=REQ-PARTICIPANT;PARTSTAT=ACCEPTED;RSVP=TRUE;CN="Florence
  VASTRA":https://epanews.fr/profile/FlorenceVASTRA
END:VEVENT
END:VCALENDAR
